BEGIN:VCALENDAR
VERSION:2.0
PRODID:-//Craven County Law Enforcement Officer&#039;s Association - ECPv6.15.17.1//NONSGML v1.0//EN
CALSCALE:GREGORIAN
METHOD:PUBLISH
X-WR-CALNAME:Craven County Law Enforcement Officer&#039;s Association
X-ORIGINAL-URL:https://ccleoa.org
X-WR-CALDESC:Events for Craven County Law Enforcement Officer&#039;s Association
REFRESH-INTERVAL;VALUE=DURATION:PT1H
X-Robots-Tag:noindex
X-PUBLISHED-TTL:PT1H
BEGIN:VTIMEZONE
TZID:America/New_York
BEGIN:DAYLIGHT
TZOFFSETFROM:-0500
TZOFFSETTO:-0400
TZNAME:EDT
DTSTART:20250309T070000
END:DAYLIGHT
BEGIN:STANDARD
TZOFFSETFROM:-0400
TZOFFSETTO:-0500
TZNAME:EST
DTSTART:20251102T060000
END:STANDARD
BEGIN:DAYLIGHT
TZOFFSETFROM:-0500
TZOFFSETTO:-0400
TZNAME:EDT
DTSTART:20260308T070000
END:DAYLIGHT
BEGIN:STANDARD
TZOFFSETFROM:-0400
TZOFFSETTO:-0500
TZNAME:EST
DTSTART:20261101T060000
END:STANDARD
BEGIN:DAYLIGHT
TZOFFSETFROM:-0500
TZOFFSETTO:-0400
TZNAME:EDT
DTSTART:20270314T070000
END:DAYLIGHT
BEGIN:STANDARD
TZOFFSETFROM:-0400
TZOFFSETTO:-0500
TZNAME:EST
DTSTART:20271107T060000
END:STANDARD
END:VTIMEZONE
BEGIN:VEVENT
DTSTART;TZID=America/New_York:20260422T090000
DTEND;TZID=America/New_York:20260422T120000
DTSTAMP:20260419T231506
CREATED:20210728T172312Z
LAST-MODIFIED:20250319T185901Z
UID:10003720-1776848400-1776859200@ccleoa.org
SUMMARY:RN TRAP Range E  Ranges C & D CLOSED during Trap hours
DESCRIPTION:
URL:https://ccleoa.org/event/trap-rifle-range-closed-during-trap-hours-5/2026-04-22/
CATEGORIES:Repeating Events,Trap-Rifle Range Closed
END:VEVENT
BEGIN:VEVENT
DTSTART;TZID=America/New_York:20260429T090000
DTEND;TZID=America/New_York:20260429T120000
DTSTAMP:20260419T231506
CREATED:20210728T172312Z
LAST-MODIFIED:20250319T185901Z
UID:10003721-1777453200-1777464000@ccleoa.org
SUMMARY:RN TRAP Range E  Ranges C & D CLOSED during Trap hours
DESCRIPTION:
URL:https://ccleoa.org/event/trap-rifle-range-closed-during-trap-hours-5/2026-04-29/
CATEGORIES:Repeating Events,Trap-Rifle Range Closed
END:VEVENT
BEGIN:VEVENT
DTSTART;TZID=America/New_York:20260506T090000
DTEND;TZID=America/New_York:20260506T120000
DTSTAMP:20260419T231506
CREATED:20210728T172312Z
LAST-MODIFIED:20250319T185901Z
UID:10003722-1778058000-1778068800@ccleoa.org
SUMMARY:RN TRAP Range E  Ranges C & D CLOSED during Trap hours
DESCRIPTION:
URL:https://ccleoa.org/event/trap-rifle-range-closed-during-trap-hours-5/2026-05-06/
CATEGORIES:Repeating Events,Trap-Rifle Range Closed
END:VEVENT
BEGIN:VEVENT
DTSTART;TZID=America/New_York:20260513T090000
DTEND;TZID=America/New_York:20260513T120000
DTSTAMP:20260419T231506
CREATED:20210728T172312Z
LAST-MODIFIED:20250319T185901Z
UID:10003723-1778662800-1778673600@ccleoa.org
SUMMARY:RN TRAP Range E  Ranges C & D CLOSED during Trap hours
DESCRIPTION:
URL:https://ccleoa.org/event/trap-rifle-range-closed-during-trap-hours-5/2026-05-13/
CATEGORIES:Repeating Events,Trap-Rifle Range Closed
END:VEVENT
BEGIN:VEVENT
DTSTART;TZID=America/New_York:20260520T090000
DTEND;TZID=America/New_York:20260520T120000
DTSTAMP:20260419T231506
CREATED:20210728T172312Z
LAST-MODIFIED:20250319T185901Z
UID:10003724-1779267600-1779278400@ccleoa.org
SUMMARY:RN TRAP Range E  Ranges C & D CLOSED during Trap hours
DESCRIPTION:
URL:https://ccleoa.org/event/trap-rifle-range-closed-during-trap-hours-5/2026-05-20/
CATEGORIES:Repeating Events,Trap-Rifle Range Closed
END:VEVENT
BEGIN:VEVENT
DTSTART;TZID=America/New_York:20260527T090000
DTEND;TZID=America/New_York:20260527T120000
DTSTAMP:20260419T231506
CREATED:20210728T172312Z
LAST-MODIFIED:20250319T185901Z
UID:10003725-1779872400-1779883200@ccleoa.org
SUMMARY:RN TRAP Range E  Ranges C & D CLOSED during Trap hours
DESCRIPTION:
URL:https://ccleoa.org/event/trap-rifle-range-closed-during-trap-hours-5/2026-05-27/
CATEGORIES:Repeating Events,Trap-Rifle Range Closed
END:VEVENT
BEGIN:VEVENT
DTSTART;TZID=America/New_York:20260603T090000
DTEND;TZID=America/New_York:20260603T120000
DTSTAMP:20260419T231506
CREATED:20210728T172312Z
LAST-MODIFIED:20250319T185901Z
UID:10003726-1780477200-1780488000@ccleoa.org
SUMMARY:RN TRAP Range E  Ranges C & D CLOSED during Trap hours
DESCRIPTION:
URL:https://ccleoa.org/event/trap-rifle-range-closed-during-trap-hours-5/2026-06-03/
CATEGORIES:Repeating Events,Trap-Rifle Range Closed
END:VEVENT
BEGIN:VEVENT
DTSTART;TZID=America/New_York:20260610T090000
DTEND;TZID=America/New_York:20260610T120000
DTSTAMP:20260419T231506
CREATED:20210728T172312Z
LAST-MODIFIED:20250319T185901Z
UID:10003727-1781082000-1781092800@ccleoa.org
SUMMARY:RN TRAP Range E  Ranges C & D CLOSED during Trap hours
DESCRIPTION:
URL:https://ccleoa.org/event/trap-rifle-range-closed-during-trap-hours-5/2026-06-10/
CATEGORIES:Repeating Events,Trap-Rifle Range Closed
END:VEVENT
BEGIN:VEVENT
DTSTART;TZID=America/New_York:20260617T090000
DTEND;TZID=America/New_York:20260617T120000
DTSTAMP:20260419T231506
CREATED:20210728T172312Z
LAST-MODIFIED:20250319T185901Z
UID:10003728-1781686800-1781697600@ccleoa.org
SUMMARY:RN TRAP Range E  Ranges C & D CLOSED during Trap hours
DESCRIPTION:
URL:https://ccleoa.org/event/trap-rifle-range-closed-during-trap-hours-5/2026-06-17/
CATEGORIES:Repeating Events,Trap-Rifle Range Closed
END:VEVENT
BEGIN:VEVENT
DTSTART;TZID=America/New_York:20260624T090000
DTEND;TZID=America/New_York:20260624T120000
DTSTAMP:20260419T231506
CREATED:20210728T172312Z
LAST-MODIFIED:20250319T185901Z
UID:10003729-1782291600-1782302400@ccleoa.org
SUMMARY:RN TRAP Range E  Ranges C & D CLOSED during Trap hours
DESCRIPTION:
URL:https://ccleoa.org/event/trap-rifle-range-closed-during-trap-hours-5/2026-06-24/
CATEGORIES:Repeating Events,Trap-Rifle Range Closed
END:VEVENT
BEGIN:VEVENT
DTSTART;TZID=America/New_York:20260701T090000
DTEND;TZID=America/New_York:20260701T120000
DTSTAMP:20260419T231506
CREATED:20210728T172312Z
LAST-MODIFIED:20250319T185901Z
UID:10003730-1782896400-1782907200@ccleoa.org
SUMMARY:RN TRAP Range E  Ranges C & D CLOSED during Trap hours
DESCRIPTION:
URL:https://ccleoa.org/event/trap-rifle-range-closed-during-trap-hours-5/2026-07-01/
CATEGORIES:Repeating Events,Trap-Rifle Range Closed
END:VEVENT
BEGIN:VEVENT
DTSTART;TZID=America/New_York:20260708T090000
DTEND;TZID=America/New_York:20260708T120000
DTSTAMP:20260419T231506
CREATED:20210728T172312Z
LAST-MODIFIED:20250319T185901Z
UID:10003731-1783501200-1783512000@ccleoa.org
SUMMARY:RN TRAP Range E  Ranges C & D CLOSED during Trap hours
DESCRIPTION:
URL:https://ccleoa.org/event/trap-rifle-range-closed-during-trap-hours-5/2026-07-08/
CATEGORIES:Repeating Events,Trap-Rifle Range Closed
END:VEVENT
BEGIN:VEVENT
DTSTART;TZID=America/New_York:20260715T090000
DTEND;TZID=America/New_York:20260715T120000
DTSTAMP:20260419T231506
CREATED:20210728T172312Z
LAST-MODIFIED:20250319T185901Z
UID:10003732-1784106000-1784116800@ccleoa.org
SUMMARY:RN TRAP Range E  Ranges C & D CLOSED during Trap hours
DESCRIPTION:
URL:https://ccleoa.org/event/trap-rifle-range-closed-during-trap-hours-5/2026-07-15/
CATEGORIES:Repeating Events,Trap-Rifle Range Closed
END:VEVENT
BEGIN:VEVENT
DTSTART;TZID=America/New_York:20260722T090000
DTEND;TZID=America/New_York:20260722T120000
DTSTAMP:20260419T231506
CREATED:20210728T172312Z
LAST-MODIFIED:20250319T185901Z
UID:10003733-1784710800-1784721600@ccleoa.org
SUMMARY:RN TRAP Range E  Ranges C & D CLOSED during Trap hours
DESCRIPTION:
URL:https://ccleoa.org/event/trap-rifle-range-closed-during-trap-hours-5/2026-07-22/
CATEGORIES:Repeating Events,Trap-Rifle Range Closed
END:VEVENT
BEGIN:VEVENT
DTSTART;TZID=America/New_York:20260729T090000
DTEND;TZID=America/New_York:20260729T120000
DTSTAMP:20260419T231506
CREATED:20210728T172312Z
LAST-MODIFIED:20250319T185901Z
UID:10003734-1785315600-1785326400@ccleoa.org
SUMMARY:RN TRAP Range E  Ranges C & D CLOSED during Trap hours
DESCRIPTION:
URL:https://ccleoa.org/event/trap-rifle-range-closed-during-trap-hours-5/2026-07-29/
CATEGORIES:Repeating Events,Trap-Rifle Range Closed
END:VEVENT
BEGIN:VEVENT
DTSTART;TZID=America/New_York:20260805T090000
DTEND;TZID=America/New_York:20260805T120000
DTSTAMP:20260419T231506
CREATED:20210728T172312Z
LAST-MODIFIED:20250319T185901Z
UID:10003735-1785920400-1785931200@ccleoa.org
SUMMARY:RN TRAP Range E  Ranges C & D CLOSED during Trap hours
DESCRIPTION:
URL:https://ccleoa.org/event/trap-rifle-range-closed-during-trap-hours-5/2026-08-05/
CATEGORIES:Repeating Events,Trap-Rifle Range Closed
END:VEVENT
BEGIN:VEVENT
DTSTART;TZID=America/New_York:20260812T090000
DTEND;TZID=America/New_York:20260812T120000
DTSTAMP:20260419T231506
CREATED:20210728T172312Z
LAST-MODIFIED:20250319T185901Z
UID:10003736-1786525200-1786536000@ccleoa.org
SUMMARY:RN TRAP Range E  Ranges C & D CLOSED during Trap hours
DESCRIPTION:
URL:https://ccleoa.org/event/trap-rifle-range-closed-during-trap-hours-5/2026-08-12/
CATEGORIES:Repeating Events,Trap-Rifle Range Closed
END:VEVENT
BEGIN:VEVENT
DTSTART;TZID=America/New_York:20260819T090000
DTEND;TZID=America/New_York:20260819T120000
DTSTAMP:20260419T231506
CREATED:20210728T172312Z
LAST-MODIFIED:20250319T185901Z
UID:10003737-1787130000-1787140800@ccleoa.org
SUMMARY:RN TRAP Range E  Ranges C & D CLOSED during Trap hours
DESCRIPTION:
URL:https://ccleoa.org/event/trap-rifle-range-closed-during-trap-hours-5/2026-08-19/
CATEGORIES:Repeating Events,Trap-Rifle Range Closed
END:VEVENT
BEGIN:VEVENT
DTSTART;TZID=America/New_York:20260826T090000
DTEND;TZID=America/New_York:20260826T120000
DTSTAMP:20260419T231506
CREATED:20210728T172312Z
LAST-MODIFIED:20250319T185901Z
UID:10003738-1787734800-1787745600@ccleoa.org
SUMMARY:RN TRAP Range E  Ranges C & D CLOSED during Trap hours
DESCRIPTION:
URL:https://ccleoa.org/event/trap-rifle-range-closed-during-trap-hours-5/2026-08-26/
CATEGORIES:Repeating Events,Trap-Rifle Range Closed
END:VEVENT
BEGIN:VEVENT
DTSTART;TZID=America/New_York:20260902T090000
DTEND;TZID=America/New_York:20260902T120000
DTSTAMP:20260419T231506
CREATED:20210728T172312Z
LAST-MODIFIED:20250319T185901Z
UID:10003739-1788339600-1788350400@ccleoa.org
SUMMARY:RN TRAP Range E  Ranges C & D CLOSED during Trap hours
DESCRIPTION:
URL:https://ccleoa.org/event/trap-rifle-range-closed-during-trap-hours-5/2026-09-02/
CATEGORIES:Repeating Events,Trap-Rifle Range Closed
END:VEVENT
BEGIN:VEVENT
DTSTART;TZID=America/New_York:20260909T090000
DTEND;TZID=America/New_York:20260909T120000
DTSTAMP:20260419T231506
CREATED:20210728T172312Z
LAST-MODIFIED:20250319T185901Z
UID:10003740-1788944400-1788955200@ccleoa.org
SUMMARY:RN TRAP Range E  Ranges C & D CLOSED during Trap hours
DESCRIPTION:
URL:https://ccleoa.org/event/trap-rifle-range-closed-during-trap-hours-5/2026-09-09/
CATEGORIES:Repeating Events,Trap-Rifle Range Closed
END:VEVENT
BEGIN:VEVENT
DTSTART;TZID=America/New_York:20260916T090000
DTEND;TZID=America/New_York:20260916T120000
DTSTAMP:20260419T231506
CREATED:20210728T172312Z
LAST-MODIFIED:20250319T185901Z
UID:10003741-1789549200-1789560000@ccleoa.org
SUMMARY:RN TRAP Range E  Ranges C & D CLOSED during Trap hours
DESCRIPTION:
URL:https://ccleoa.org/event/trap-rifle-range-closed-during-trap-hours-5/2026-09-16/
CATEGORIES:Repeating Events,Trap-Rifle Range Closed
END:VEVENT
BEGIN:VEVENT
DTSTART;TZID=America/New_York:20260923T090000
DTEND;TZID=America/New_York:20260923T120000
DTSTAMP:20260419T231506
CREATED:20210728T172312Z
LAST-MODIFIED:20250319T185901Z
UID:10003742-1790154000-1790164800@ccleoa.org
SUMMARY:RN TRAP Range E  Ranges C & D CLOSED during Trap hours
DESCRIPTION:
URL:https://ccleoa.org/event/trap-rifle-range-closed-during-trap-hours-5/2026-09-23/
CATEGORIES:Repeating Events,Trap-Rifle Range Closed
END:VEVENT
BEGIN:VEVENT
DTSTART;TZID=America/New_York:20260930T090000
DTEND;TZID=America/New_York:20260930T120000
DTSTAMP:20260419T231506
CREATED:20210728T172312Z
LAST-MODIFIED:20250319T185901Z
UID:10003743-1790758800-1790769600@ccleoa.org
SUMMARY:RN TRAP Range E  Ranges C & D CLOSED during Trap hours
DESCRIPTION:
URL:https://ccleoa.org/event/trap-rifle-range-closed-during-trap-hours-5/2026-09-30/
CATEGORIES:Repeating Events,Trap-Rifle Range Closed
END:VEVENT
BEGIN:VEVENT
DTSTART;TZID=America/New_York:20261007T090000
DTEND;TZID=America/New_York:20261007T120000
DTSTAMP:20260419T231506
CREATED:20210728T172312Z
LAST-MODIFIED:20250319T185901Z
UID:10003744-1791363600-1791374400@ccleoa.org
SUMMARY:RN TRAP Range E  Ranges C & D CLOSED during Trap hours
DESCRIPTION:
URL:https://ccleoa.org/event/trap-rifle-range-closed-during-trap-hours-5/2026-10-07/
CATEGORIES:Repeating Events,Trap-Rifle Range Closed
END:VEVENT
BEGIN:VEVENT
DTSTART;TZID=America/New_York:20261014T090000
DTEND;TZID=America/New_York:20261014T120000
DTSTAMP:20260419T231506
CREATED:20210728T172312Z
LAST-MODIFIED:20250319T185901Z
UID:10003745-1791968400-1791979200@ccleoa.org
SUMMARY:RN TRAP Range E  Ranges C & D CLOSED during Trap hours
DESCRIPTION:
URL:https://ccleoa.org/event/trap-rifle-range-closed-during-trap-hours-5/2026-10-14/
CATEGORIES:Repeating Events,Trap-Rifle Range Closed
END:VEVENT
BEGIN:VEVENT
DTSTART;TZID=America/New_York:20261021T090000
DTEND;TZID=America/New_York:20261021T120000
DTSTAMP:20260419T231506
CREATED:20210728T172312Z
LAST-MODIFIED:20250319T185901Z
UID:10003746-1792573200-1792584000@ccleoa.org
SUMMARY:RN TRAP Range E  Ranges C & D CLOSED during Trap hours
DESCRIPTION:
URL:https://ccleoa.org/event/trap-rifle-range-closed-during-trap-hours-5/2026-10-21/
CATEGORIES:Repeating Events,Trap-Rifle Range Closed
END:VEVENT
BEGIN:VEVENT
DTSTART;TZID=America/New_York:20261028T090000
DTEND;TZID=America/New_York:20261028T120000
DTSTAMP:20260419T231506
CREATED:20210728T172312Z
LAST-MODIFIED:20250319T185901Z
UID:10003747-1793178000-1793188800@ccleoa.org
SUMMARY:RN TRAP Range E  Ranges C & D CLOSED during Trap hours
DESCRIPTION:
URL:https://ccleoa.org/event/trap-rifle-range-closed-during-trap-hours-5/2026-10-28/
CATEGORIES:Repeating Events,Trap-Rifle Range Closed
END:VEVENT
BEGIN:VEVENT
DTSTART;TZID=America/New_York:20261104T090000
DTEND;TZID=America/New_York:20261104T120000
DTSTAMP:20260419T231506
CREATED:20210728T172312Z
LAST-MODIFIED:20250319T185901Z
UID:10003748-1793782800-1793793600@ccleoa.org
SUMMARY:RN TRAP Range E  Ranges C & D CLOSED during Trap hours
DESCRIPTION:
URL:https://ccleoa.org/event/trap-rifle-range-closed-during-trap-hours-5/2026-11-04/
CATEGORIES:Repeating Events,Trap-Rifle Range Closed
END:VEVENT
BEGIN:VEVENT
DTSTART;TZID=America/New_York:20261111T090000
DTEND;TZID=America/New_York:20261111T120000
DTSTAMP:20260419T231506
CREATED:20210728T172312Z
LAST-MODIFIED:20250319T185901Z
UID:10003749-1794387600-1794398400@ccleoa.org
SUMMARY:RN TRAP Range E  Ranges C & D CLOSED during Trap hours
DESCRIPTION:
URL:https://ccleoa.org/event/trap-rifle-range-closed-during-trap-hours-5/2026-11-11/
CATEGORIES:Repeating Events,Trap-Rifle Range Closed
END:VEVENT
END:VCALENDAR