BEGIN:VCALENDAR
VERSION:2.0
PRODID:-//Craven County Law Enforcement Officer&#039;s Association - ECPv6.15.17.1//NONSGML v1.0//EN
CALSCALE:GREGORIAN
METHOD:PUBLISH
X-WR-CALNAME:Craven County Law Enforcement Officer&#039;s Association
X-ORIGINAL-URL:https://ccleoa.org
X-WR-CALDESC:Events for Craven County Law Enforcement Officer&#039;s Association
REFRESH-INTERVAL;VALUE=DURATION:PT1H
X-Robots-Tag:noindex
X-PUBLISHED-TTL:PT1H
BEGIN:VTIMEZONE
TZID:America/New_York
BEGIN:DAYLIGHT
TZOFFSETFROM:-0500
TZOFFSETTO:-0400
TZNAME:EDT
DTSTART:20250309T070000
END:DAYLIGHT
BEGIN:STANDARD
TZOFFSETFROM:-0400
TZOFFSETTO:-0500
TZNAME:EST
DTSTART:20251102T060000
END:STANDARD
BEGIN:DAYLIGHT
TZOFFSETFROM:-0500
TZOFFSETTO:-0400
TZNAME:EDT
DTSTART:20260308T070000
END:DAYLIGHT
BEGIN:STANDARD
TZOFFSETFROM:-0400
TZOFFSETTO:-0500
TZNAME:EST
DTSTART:20261101T060000
END:STANDARD
BEGIN:DAYLIGHT
TZOFFSETFROM:-0500
TZOFFSETTO:-0400
TZNAME:EDT
DTSTART:20270314T070000
END:DAYLIGHT
BEGIN:STANDARD
TZOFFSETFROM:-0400
TZOFFSETTO:-0500
TZNAME:EST
DTSTART:20271107T060000
END:STANDARD
END:VTIMEZONE
BEGIN:VEVENT
DTSTART;TZID=America/New_York:20260420T090000
DTEND;TZID=America/New_York:20260420T120000
DTSTAMP:20260420T004342
CREATED:20210728T170307Z
LAST-MODIFIED:20250319T184713Z
UID:10003324-1776675600-1776686400@ccleoa.org
SUMMARY:Wobble Trap Shoot Range E   -   Ranges C & D CLOSED
DESCRIPTION:
URL:https://ccleoa.org/event/wobble-trap-shoot-rifle-range-closed-5/2026-04-20/
CATEGORIES:Repeating Events,Wobble Trap- Rifle Range Closed
END:VEVENT
BEGIN:VEVENT
DTSTART;TZID=America/New_York:20260427T090000
DTEND;TZID=America/New_York:20260427T120000
DTSTAMP:20260420T004342
CREATED:20210728T170307Z
LAST-MODIFIED:20250319T184713Z
UID:10003325-1777280400-1777291200@ccleoa.org
SUMMARY:Wobble Trap Shoot Range E   -   Ranges C & D CLOSED
DESCRIPTION:
URL:https://ccleoa.org/event/wobble-trap-shoot-rifle-range-closed-5/2026-04-27/
CATEGORIES:Repeating Events,Wobble Trap- Rifle Range Closed
END:VEVENT
BEGIN:VEVENT
DTSTART;TZID=America/New_York:20260504T090000
DTEND;TZID=America/New_York:20260504T120000
DTSTAMP:20260420T004342
CREATED:20210728T170307Z
LAST-MODIFIED:20250319T184713Z
UID:10003326-1777885200-1777896000@ccleoa.org
SUMMARY:Wobble Trap Shoot Range E   -   Ranges C & D CLOSED
DESCRIPTION:
URL:https://ccleoa.org/event/wobble-trap-shoot-rifle-range-closed-5/2026-05-04/
CATEGORIES:Repeating Events,Wobble Trap- Rifle Range Closed
END:VEVENT
BEGIN:VEVENT
DTSTART;TZID=America/New_York:20260511T090000
DTEND;TZID=America/New_York:20260511T120000
DTSTAMP:20260420T004342
CREATED:20210728T170307Z
LAST-MODIFIED:20250319T184713Z
UID:10003327-1778490000-1778500800@ccleoa.org
SUMMARY:Wobble Trap Shoot Range E   -   Ranges C & D CLOSED
DESCRIPTION:
URL:https://ccleoa.org/event/wobble-trap-shoot-rifle-range-closed-5/2026-05-11/
CATEGORIES:Repeating Events,Wobble Trap- Rifle Range Closed
END:VEVENT
BEGIN:VEVENT
DTSTART;TZID=America/New_York:20260518T090000
DTEND;TZID=America/New_York:20260518T120000
DTSTAMP:20260420T004342
CREATED:20210728T170307Z
LAST-MODIFIED:20250319T184713Z
UID:10003328-1779094800-1779105600@ccleoa.org
SUMMARY:Wobble Trap Shoot Range E   -   Ranges C & D CLOSED
DESCRIPTION:
URL:https://ccleoa.org/event/wobble-trap-shoot-rifle-range-closed-5/2026-05-18/
CATEGORIES:Repeating Events,Wobble Trap- Rifle Range Closed
END:VEVENT
BEGIN:VEVENT
DTSTART;TZID=America/New_York:20260525T090000
DTEND;TZID=America/New_York:20260525T120000
DTSTAMP:20260420T004342
CREATED:20210728T170307Z
LAST-MODIFIED:20250319T184713Z
UID:10003329-1779699600-1779710400@ccleoa.org
SUMMARY:Wobble Trap Shoot Range E   -   Ranges C & D CLOSED
DESCRIPTION:
URL:https://ccleoa.org/event/wobble-trap-shoot-rifle-range-closed-5/2026-05-25/
CATEGORIES:Repeating Events,Wobble Trap- Rifle Range Closed
END:VEVENT
BEGIN:VEVENT
DTSTART;TZID=America/New_York:20260601T090000
DTEND;TZID=America/New_York:20260601T120000
DTSTAMP:20260420T004342
CREATED:20210728T170307Z
LAST-MODIFIED:20250319T184713Z
UID:10003330-1780304400-1780315200@ccleoa.org
SUMMARY:Wobble Trap Shoot Range E   -   Ranges C & D CLOSED
DESCRIPTION:
URL:https://ccleoa.org/event/wobble-trap-shoot-rifle-range-closed-5/2026-06-01/
CATEGORIES:Repeating Events,Wobble Trap- Rifle Range Closed
END:VEVENT
BEGIN:VEVENT
DTSTART;TZID=America/New_York:20260608T090000
DTEND;TZID=America/New_York:20260608T120000
DTSTAMP:20260420T004342
CREATED:20210728T170307Z
LAST-MODIFIED:20250319T184713Z
UID:10003331-1780909200-1780920000@ccleoa.org
SUMMARY:Wobble Trap Shoot Range E   -   Ranges C & D CLOSED
DESCRIPTION:
URL:https://ccleoa.org/event/wobble-trap-shoot-rifle-range-closed-5/2026-06-08/
CATEGORIES:Repeating Events,Wobble Trap- Rifle Range Closed
END:VEVENT
BEGIN:VEVENT
DTSTART;TZID=America/New_York:20260615T090000
DTEND;TZID=America/New_York:20260615T120000
DTSTAMP:20260420T004342
CREATED:20210728T170307Z
LAST-MODIFIED:20250319T184713Z
UID:10003332-1781514000-1781524800@ccleoa.org
SUMMARY:Wobble Trap Shoot Range E   -   Ranges C & D CLOSED
DESCRIPTION:
URL:https://ccleoa.org/event/wobble-trap-shoot-rifle-range-closed-5/2026-06-15/
CATEGORIES:Repeating Events,Wobble Trap- Rifle Range Closed
END:VEVENT
BEGIN:VEVENT
DTSTART;TZID=America/New_York:20260622T090000
DTEND;TZID=America/New_York:20260622T120000
DTSTAMP:20260420T004342
CREATED:20210728T170307Z
LAST-MODIFIED:20250319T184713Z
UID:10003333-1782118800-1782129600@ccleoa.org
SUMMARY:Wobble Trap Shoot Range E   -   Ranges C & D CLOSED
DESCRIPTION:
URL:https://ccleoa.org/event/wobble-trap-shoot-rifle-range-closed-5/2026-06-22/
CATEGORIES:Repeating Events,Wobble Trap- Rifle Range Closed
END:VEVENT
BEGIN:VEVENT
DTSTART;TZID=America/New_York:20260629T090000
DTEND;TZID=America/New_York:20260629T120000
DTSTAMP:20260420T004342
CREATED:20210728T170307Z
LAST-MODIFIED:20250319T184713Z
UID:10003334-1782723600-1782734400@ccleoa.org
SUMMARY:Wobble Trap Shoot Range E   -   Ranges C & D CLOSED
DESCRIPTION:
URL:https://ccleoa.org/event/wobble-trap-shoot-rifle-range-closed-5/2026-06-29/
CATEGORIES:Repeating Events,Wobble Trap- Rifle Range Closed
END:VEVENT
BEGIN:VEVENT
DTSTART;TZID=America/New_York:20260706T090000
DTEND;TZID=America/New_York:20260706T120000
DTSTAMP:20260420T004342
CREATED:20210728T170307Z
LAST-MODIFIED:20250319T184713Z
UID:10003335-1783328400-1783339200@ccleoa.org
SUMMARY:Wobble Trap Shoot Range E   -   Ranges C & D CLOSED
DESCRIPTION:
URL:https://ccleoa.org/event/wobble-trap-shoot-rifle-range-closed-5/2026-07-06/
CATEGORIES:Repeating Events,Wobble Trap- Rifle Range Closed
END:VEVENT
BEGIN:VEVENT
DTSTART;TZID=America/New_York:20260713T090000
DTEND;TZID=America/New_York:20260713T120000
DTSTAMP:20260420T004342
CREATED:20210728T170307Z
LAST-MODIFIED:20250319T184713Z
UID:10003336-1783933200-1783944000@ccleoa.org
SUMMARY:Wobble Trap Shoot Range E   -   Ranges C & D CLOSED
DESCRIPTION:
URL:https://ccleoa.org/event/wobble-trap-shoot-rifle-range-closed-5/2026-07-13/
CATEGORIES:Repeating Events,Wobble Trap- Rifle Range Closed
END:VEVENT
BEGIN:VEVENT
DTSTART;TZID=America/New_York:20260720T090000
DTEND;TZID=America/New_York:20260720T120000
DTSTAMP:20260420T004342
CREATED:20210728T170307Z
LAST-MODIFIED:20250319T184713Z
UID:10003337-1784538000-1784548800@ccleoa.org
SUMMARY:Wobble Trap Shoot Range E   -   Ranges C & D CLOSED
DESCRIPTION:
URL:https://ccleoa.org/event/wobble-trap-shoot-rifle-range-closed-5/2026-07-20/
CATEGORIES:Repeating Events,Wobble Trap- Rifle Range Closed
END:VEVENT
BEGIN:VEVENT
DTSTART;TZID=America/New_York:20260727T090000
DTEND;TZID=America/New_York:20260727T120000
DTSTAMP:20260420T004342
CREATED:20210728T170307Z
LAST-MODIFIED:20250319T184713Z
UID:10003338-1785142800-1785153600@ccleoa.org
SUMMARY:Wobble Trap Shoot Range E   -   Ranges C & D CLOSED
DESCRIPTION:
URL:https://ccleoa.org/event/wobble-trap-shoot-rifle-range-closed-5/2026-07-27/
CATEGORIES:Repeating Events,Wobble Trap- Rifle Range Closed
END:VEVENT
BEGIN:VEVENT
DTSTART;TZID=America/New_York:20260803T090000
DTEND;TZID=America/New_York:20260803T120000
DTSTAMP:20260420T004342
CREATED:20210728T170307Z
LAST-MODIFIED:20250319T184713Z
UID:10003339-1785747600-1785758400@ccleoa.org
SUMMARY:Wobble Trap Shoot Range E   -   Ranges C & D CLOSED
DESCRIPTION:
URL:https://ccleoa.org/event/wobble-trap-shoot-rifle-range-closed-5/2026-08-03/
CATEGORIES:Repeating Events,Wobble Trap- Rifle Range Closed
END:VEVENT
BEGIN:VEVENT
DTSTART;TZID=America/New_York:20260810T090000
DTEND;TZID=America/New_York:20260810T120000
DTSTAMP:20260420T004342
CREATED:20210728T170307Z
LAST-MODIFIED:20250319T184713Z
UID:10003340-1786352400-1786363200@ccleoa.org
SUMMARY:Wobble Trap Shoot Range E   -   Ranges C & D CLOSED
DESCRIPTION:
URL:https://ccleoa.org/event/wobble-trap-shoot-rifle-range-closed-5/2026-08-10/
CATEGORIES:Repeating Events,Wobble Trap- Rifle Range Closed
END:VEVENT
BEGIN:VEVENT
DTSTART;TZID=America/New_York:20260817T090000
DTEND;TZID=America/New_York:20260817T120000
DTSTAMP:20260420T004342
CREATED:20210728T170307Z
LAST-MODIFIED:20250319T184713Z
UID:10003341-1786957200-1786968000@ccleoa.org
SUMMARY:Wobble Trap Shoot Range E   -   Ranges C & D CLOSED
DESCRIPTION:
URL:https://ccleoa.org/event/wobble-trap-shoot-rifle-range-closed-5/2026-08-17/
CATEGORIES:Repeating Events,Wobble Trap- Rifle Range Closed
END:VEVENT
BEGIN:VEVENT
DTSTART;TZID=America/New_York:20260824T090000
DTEND;TZID=America/New_York:20260824T120000
DTSTAMP:20260420T004342
CREATED:20210728T170307Z
LAST-MODIFIED:20250319T184713Z
UID:10003342-1787562000-1787572800@ccleoa.org
SUMMARY:Wobble Trap Shoot Range E   -   Ranges C & D CLOSED
DESCRIPTION:
URL:https://ccleoa.org/event/wobble-trap-shoot-rifle-range-closed-5/2026-08-24/
CATEGORIES:Repeating Events,Wobble Trap- Rifle Range Closed
END:VEVENT
BEGIN:VEVENT
DTSTART;TZID=America/New_York:20260831T090000
DTEND;TZID=America/New_York:20260831T120000
DTSTAMP:20260420T004342
CREATED:20210728T170307Z
LAST-MODIFIED:20250319T184713Z
UID:10003343-1788166800-1788177600@ccleoa.org
SUMMARY:Wobble Trap Shoot Range E   -   Ranges C & D CLOSED
DESCRIPTION:
URL:https://ccleoa.org/event/wobble-trap-shoot-rifle-range-closed-5/2026-08-31/
CATEGORIES:Repeating Events,Wobble Trap- Rifle Range Closed
END:VEVENT
BEGIN:VEVENT
DTSTART;TZID=America/New_York:20260907T090000
DTEND;TZID=America/New_York:20260907T120000
DTSTAMP:20260420T004342
CREATED:20210728T170307Z
LAST-MODIFIED:20250319T184713Z
UID:10003344-1788771600-1788782400@ccleoa.org
SUMMARY:Wobble Trap Shoot Range E   -   Ranges C & D CLOSED
DESCRIPTION:
URL:https://ccleoa.org/event/wobble-trap-shoot-rifle-range-closed-5/2026-09-07/
CATEGORIES:Repeating Events,Wobble Trap- Rifle Range Closed
END:VEVENT
BEGIN:VEVENT
DTSTART;TZID=America/New_York:20260914T090000
DTEND;TZID=America/New_York:20260914T120000
DTSTAMP:20260420T004342
CREATED:20210728T170307Z
LAST-MODIFIED:20250319T184713Z
UID:10003345-1789376400-1789387200@ccleoa.org
SUMMARY:Wobble Trap Shoot Range E   -   Ranges C & D CLOSED
DESCRIPTION:
URL:https://ccleoa.org/event/wobble-trap-shoot-rifle-range-closed-5/2026-09-14/
CATEGORIES:Repeating Events,Wobble Trap- Rifle Range Closed
END:VEVENT
BEGIN:VEVENT
DTSTART;TZID=America/New_York:20260921T090000
DTEND;TZID=America/New_York:20260921T120000
DTSTAMP:20260420T004342
CREATED:20210728T170307Z
LAST-MODIFIED:20250319T184713Z
UID:10003346-1789981200-1789992000@ccleoa.org
SUMMARY:Wobble Trap Shoot Range E   -   Ranges C & D CLOSED
DESCRIPTION:
URL:https://ccleoa.org/event/wobble-trap-shoot-rifle-range-closed-5/2026-09-21/
CATEGORIES:Repeating Events,Wobble Trap- Rifle Range Closed
END:VEVENT
BEGIN:VEVENT
DTSTART;TZID=America/New_York:20260928T090000
DTEND;TZID=America/New_York:20260928T120000
DTSTAMP:20260420T004342
CREATED:20210728T170307Z
LAST-MODIFIED:20250319T184713Z
UID:10003347-1790586000-1790596800@ccleoa.org
SUMMARY:Wobble Trap Shoot Range E   -   Ranges C & D CLOSED
DESCRIPTION:
URL:https://ccleoa.org/event/wobble-trap-shoot-rifle-range-closed-5/2026-09-28/
CATEGORIES:Repeating Events,Wobble Trap- Rifle Range Closed
END:VEVENT
BEGIN:VEVENT
DTSTART;TZID=America/New_York:20261005T090000
DTEND;TZID=America/New_York:20261005T120000
DTSTAMP:20260420T004342
CREATED:20210728T170307Z
LAST-MODIFIED:20250319T184713Z
UID:10003348-1791190800-1791201600@ccleoa.org
SUMMARY:Wobble Trap Shoot Range E   -   Ranges C & D CLOSED
DESCRIPTION:
URL:https://ccleoa.org/event/wobble-trap-shoot-rifle-range-closed-5/2026-10-05/
CATEGORIES:Repeating Events,Wobble Trap- Rifle Range Closed
END:VEVENT
BEGIN:VEVENT
DTSTART;TZID=America/New_York:20261012T090000
DTEND;TZID=America/New_York:20261012T120000
DTSTAMP:20260420T004342
CREATED:20210728T170307Z
LAST-MODIFIED:20250319T184713Z
UID:10003349-1791795600-1791806400@ccleoa.org
SUMMARY:Wobble Trap Shoot Range E   -   Ranges C & D CLOSED
DESCRIPTION:
URL:https://ccleoa.org/event/wobble-trap-shoot-rifle-range-closed-5/2026-10-12/
CATEGORIES:Repeating Events,Wobble Trap- Rifle Range Closed
END:VEVENT
BEGIN:VEVENT
DTSTART;TZID=America/New_York:20261019T090000
DTEND;TZID=America/New_York:20261019T120000
DTSTAMP:20260420T004342
CREATED:20210728T170307Z
LAST-MODIFIED:20250319T184713Z
UID:10003350-1792400400-1792411200@ccleoa.org
SUMMARY:Wobble Trap Shoot Range E   -   Ranges C & D CLOSED
DESCRIPTION:
URL:https://ccleoa.org/event/wobble-trap-shoot-rifle-range-closed-5/2026-10-19/
CATEGORIES:Repeating Events,Wobble Trap- Rifle Range Closed
END:VEVENT
BEGIN:VEVENT
DTSTART;TZID=America/New_York:20261026T090000
DTEND;TZID=America/New_York:20261026T120000
DTSTAMP:20260420T004342
CREATED:20210728T170307Z
LAST-MODIFIED:20250319T184713Z
UID:10003351-1793005200-1793016000@ccleoa.org
SUMMARY:Wobble Trap Shoot Range E   -   Ranges C & D CLOSED
DESCRIPTION:
URL:https://ccleoa.org/event/wobble-trap-shoot-rifle-range-closed-5/2026-10-26/
CATEGORIES:Repeating Events,Wobble Trap- Rifle Range Closed
END:VEVENT
BEGIN:VEVENT
DTSTART;TZID=America/New_York:20261102T090000
DTEND;TZID=America/New_York:20261102T120000
DTSTAMP:20260420T004342
CREATED:20210728T170307Z
LAST-MODIFIED:20250319T184713Z
UID:10003352-1793610000-1793620800@ccleoa.org
SUMMARY:Wobble Trap Shoot Range E   -   Ranges C & D CLOSED
DESCRIPTION:
URL:https://ccleoa.org/event/wobble-trap-shoot-rifle-range-closed-5/2026-11-02/
CATEGORIES:Repeating Events,Wobble Trap- Rifle Range Closed
END:VEVENT
BEGIN:VEVENT
DTSTART;TZID=America/New_York:20261109T090000
DTEND;TZID=America/New_York:20261109T120000
DTSTAMP:20260420T004342
CREATED:20210728T170307Z
LAST-MODIFIED:20250319T184713Z
UID:10003353-1794214800-1794225600@ccleoa.org
SUMMARY:Wobble Trap Shoot Range E   -   Ranges C & D CLOSED
DESCRIPTION:
URL:https://ccleoa.org/event/wobble-trap-shoot-rifle-range-closed-5/2026-11-09/
CATEGORIES:Repeating Events,Wobble Trap- Rifle Range Closed
END:VEVENT
END:VCALENDAR