BEGIN:VCALENDAR
VERSION:2.0
PRODID:-//Craven County Law Enforcement Officer&#039;s Association - ECPv6.15.17.1//NONSGML v1.0//EN
CALSCALE:GREGORIAN
METHOD:PUBLISH
X-ORIGINAL-URL:https://ccleoa.org
X-WR-CALDESC:Events for Craven County Law Enforcement Officer&#039;s Association
REFRESH-INTERVAL;VALUE=DURATION:PT1H
X-Robots-Tag:noindex
X-PUBLISHED-TTL:PT1H
BEGIN:VTIMEZONE
TZID:America/New_York
BEGIN:DAYLIGHT
TZOFFSETFROM:-0500
TZOFFSETTO:-0400
TZNAME:EDT
DTSTART:20210314T070000
END:DAYLIGHT
BEGIN:STANDARD
TZOFFSETFROM:-0400
TZOFFSETTO:-0500
TZNAME:EST
DTSTART:20211107T060000
END:STANDARD
BEGIN:DAYLIGHT
TZOFFSETFROM:-0500
TZOFFSETTO:-0400
TZNAME:EDT
DTSTART:20220313T070000
END:DAYLIGHT
BEGIN:STANDARD
TZOFFSETFROM:-0400
TZOFFSETTO:-0500
TZNAME:EST
DTSTART:20221106T060000
END:STANDARD
BEGIN:DAYLIGHT
TZOFFSETFROM:-0500
TZOFFSETTO:-0400
TZNAME:EDT
DTSTART:20230312T070000
END:DAYLIGHT
BEGIN:STANDARD
TZOFFSETFROM:-0400
TZOFFSETTO:-0500
TZNAME:EST
DTSTART:20231105T060000
END:STANDARD
END:VTIMEZONE
BEGIN:VEVENT
DTSTART;TZID=America/New_York:20220306T133000
DTEND;TZID=America/New_York:20220306T173000
DTSTAMP:20260421T200440
CREATED:20211206T182543Z
LAST-MODIFIED:20220105T174510Z
UID:10001345-1646573400-1646587800@ccleoa.org
SUMMARY:Mike Smith WCHS Range OPEN
DESCRIPTION:
URL:https://ccleoa.org/event/mike-smith-wchs/2022-03-06/
CATEGORIES:Workday
END:VEVENT
END:VCALENDAR