BEGIN:VCALENDAR
VERSION:2.0
PRODID:-//Craven County Law Enforcement Officer&#039;s Association - ECPv6.15.17.1//NONSGML v1.0//EN
CALSCALE:GREGORIAN
METHOD:PUBLISH
X-ORIGINAL-URL:https://ccleoa.org
X-WR-CALDESC:Events for Craven County Law Enforcement Officer&#039;s Association
REFRESH-INTERVAL;VALUE=DURATION:PT1H
X-Robots-Tag:noindex
X-PUBLISHED-TTL:PT1H
BEGIN:VTIMEZONE
TZID:America/New_York
BEGIN:DAYLIGHT
TZOFFSETFROM:-0500
TZOFFSETTO:-0400
TZNAME:EDT
DTSTART:20200308T070000
END:DAYLIGHT
BEGIN:STANDARD
TZOFFSETFROM:-0400
TZOFFSETTO:-0500
TZNAME:EST
DTSTART:20201101T060000
END:STANDARD
BEGIN:DAYLIGHT
TZOFFSETFROM:-0500
TZOFFSETTO:-0400
TZNAME:EDT
DTSTART:20210314T070000
END:DAYLIGHT
BEGIN:STANDARD
TZOFFSETFROM:-0400
TZOFFSETTO:-0500
TZNAME:EST
DTSTART:20211107T060000
END:STANDARD
BEGIN:DAYLIGHT
TZOFFSETFROM:-0500
TZOFFSETTO:-0400
TZNAME:EDT
DTSTART:20220313T070000
END:DAYLIGHT
BEGIN:STANDARD
TZOFFSETFROM:-0400
TZOFFSETTO:-0500
TZNAME:EST
DTSTART:20221106T060000
END:STANDARD
END:VTIMEZONE
BEGIN:VEVENT
DTSTART;TZID=America/New_York:20211204T080000
DTEND;TZID=America/New_York:20211204T130000
DTSTAMP:20260422T013217
CREATED:20210816T141731Z
LAST-MODIFIED:20210817T185317Z
UID:10001060-1638604800-1638622800@ccleoa.org
SUMMARY:CCLEOA-Workday
DESCRIPTION:
URL:https://ccleoa.org/event/ccleoa-workday/2021-12-04/
CATEGORIES:Single Events,Workday
END:VEVENT
BEGIN:VEVENT
DTSTART;TZID=America/New_York:20211219T133000
DTEND;TZID=America/New_York:20211219T173000
DTSTAMP:20260422T013217
CREATED:20211206T182543Z
LAST-MODIFIED:20220105T174510Z
UID:10001335-1639920600-1639935000@ccleoa.org
SUMMARY:Mike Smith WCHS Range OPEN
DESCRIPTION:
URL:https://ccleoa.org/event/mike-smith-wchs/2021-12-19/
CATEGORIES:Workday
END:VEVENT
END:VCALENDAR