BEGIN:VCALENDAR
VERSION:2.0
PRODID:-//Craven County Law Enforcement Officer&#039;s Association - ECPv6.15.17.1//NONSGML v1.0//EN
CALSCALE:GREGORIAN
METHOD:PUBLISH
X-WR-CALNAME:Craven County Law Enforcement Officer&#039;s Association
X-ORIGINAL-URL:https://ccleoa.org
X-WR-CALDESC:Events for Craven County Law Enforcement Officer&#039;s Association
REFRESH-INTERVAL;VALUE=DURATION:PT1H
X-Robots-Tag:noindex
X-PUBLISHED-TTL:PT1H
BEGIN:VTIMEZONE
TZID:America/New_York
BEGIN:DAYLIGHT
TZOFFSETFROM:-0500
TZOFFSETTO:-0400
TZNAME:EDT
DTSTART:20200308T070000
END:DAYLIGHT
BEGIN:STANDARD
TZOFFSETFROM:-0400
TZOFFSETTO:-0500
TZNAME:EST
DTSTART:20201101T060000
END:STANDARD
BEGIN:DAYLIGHT
TZOFFSETFROM:-0500
TZOFFSETTO:-0400
TZNAME:EDT
DTSTART:20210314T070000
END:DAYLIGHT
BEGIN:STANDARD
TZOFFSETFROM:-0400
TZOFFSETTO:-0500
TZNAME:EST
DTSTART:20211107T060000
END:STANDARD
BEGIN:DAYLIGHT
TZOFFSETFROM:-0500
TZOFFSETTO:-0400
TZNAME:EDT
DTSTART:20220313T070000
END:DAYLIGHT
BEGIN:STANDARD
TZOFFSETFROM:-0400
TZOFFSETTO:-0500
TZNAME:EST
DTSTART:20221106T060000
END:STANDARD
END:VTIMEZONE
BEGIN:VEVENT
DTSTART;TZID=America/New_York:20210807T090000
DTEND;TZID=America/New_York:20210807T120000
DTSTAMP:20260420T045639
CREATED:20210728T173413Z
LAST-MODIFIED:20250319T185558Z
UID:10000849-1628326800-1628337600@ccleoa.org
SUMMARY:RN Trap Range E  When No Police have reserved Range. Ranges C & D CLOSED during Trap hours
DESCRIPTION:
URL:https://ccleoa.org/event/trap-when-no-police-have-reserved-range-rifle-range-closed-during-trap-hours-6/2021-08-07/
CATEGORIES:Repeating Events,Trap
END:VEVENT
BEGIN:VEVENT
DTSTART;TZID=America/New_York:20210814T090000
DTEND;TZID=America/New_York:20210814T120000
DTSTAMP:20260420T045639
CREATED:20210728T173413Z
LAST-MODIFIED:20250319T185558Z
UID:10000850-1628931600-1628942400@ccleoa.org
SUMMARY:RN Trap Range E  When No Police have reserved Range. Ranges C & D CLOSED during Trap hours
DESCRIPTION:
URL:https://ccleoa.org/event/trap-when-no-police-have-reserved-range-rifle-range-closed-during-trap-hours-6/2021-08-14/
CATEGORIES:Repeating Events,Trap
END:VEVENT
BEGIN:VEVENT
DTSTART;TZID=America/New_York:20210814T090000
DTEND;TZID=America/New_York:20210814T120000
DTSTAMP:20260420T045639
CREATED:20221213T153957Z
LAST-MODIFIED:20231009T233855Z
UID:10000995-1628931600-1628942400@ccleoa.org
SUMMARY:RN Trap Range E-When no Police have reserved Range-Rifle Range CLOSED during Trap hours
DESCRIPTION:
URL:https://ccleoa.org/event/trap-when-no-police-have-reserved-range-rifle-range-closed-during-trap-hours-6-2/2021-08-14/
CATEGORIES:Repeating Events,Trap
END:VEVENT
BEGIN:VEVENT
DTSTART;TZID=America/New_York:20210821T090000
DTEND;TZID=America/New_York:20210821T120000
DTSTAMP:20260420T045639
CREATED:20210728T173413Z
LAST-MODIFIED:20250319T185558Z
UID:10000851-1629536400-1629547200@ccleoa.org
SUMMARY:RN Trap Range E  When No Police have reserved Range. Ranges C & D CLOSED during Trap hours
DESCRIPTION:
URL:https://ccleoa.org/event/trap-when-no-police-have-reserved-range-rifle-range-closed-during-trap-hours-6/2021-08-21/
CATEGORIES:Repeating Events,Trap
END:VEVENT
BEGIN:VEVENT
DTSTART;TZID=America/New_York:20210821T090000
DTEND;TZID=America/New_York:20210821T120000
DTSTAMP:20260420T045639
CREATED:20221213T153957Z
LAST-MODIFIED:20231009T233855Z
UID:10000996-1629536400-1629547200@ccleoa.org
SUMMARY:RN Trap Range E-When no Police have reserved Range-Rifle Range CLOSED during Trap hours
DESCRIPTION:
URL:https://ccleoa.org/event/trap-when-no-police-have-reserved-range-rifle-range-closed-during-trap-hours-6-2/2021-08-21/
CATEGORIES:Repeating Events,Trap
END:VEVENT
BEGIN:VEVENT
DTSTART;TZID=America/New_York:20210828T090000
DTEND;TZID=America/New_York:20210828T120000
DTSTAMP:20260420T045639
CREATED:20210728T173413Z
LAST-MODIFIED:20250319T185558Z
UID:10000852-1630141200-1630152000@ccleoa.org
SUMMARY:RN Trap Range E  When No Police have reserved Range. Ranges C & D CLOSED during Trap hours
DESCRIPTION:
URL:https://ccleoa.org/event/trap-when-no-police-have-reserved-range-rifle-range-closed-during-trap-hours-6/2021-08-28/
CATEGORIES:Repeating Events,Trap
END:VEVENT
BEGIN:VEVENT
DTSTART;TZID=America/New_York:20210828T090000
DTEND;TZID=America/New_York:20210828T120000
DTSTAMP:20260420T045639
CREATED:20221213T153957Z
LAST-MODIFIED:20231009T233855Z
UID:10000997-1630141200-1630152000@ccleoa.org
SUMMARY:RN Trap Range E-When no Police have reserved Range-Rifle Range CLOSED during Trap hours
DESCRIPTION:
URL:https://ccleoa.org/event/trap-when-no-police-have-reserved-range-rifle-range-closed-during-trap-hours-6-2/2021-08-28/
CATEGORIES:Repeating Events,Trap
END:VEVENT
END:VCALENDAR