BEGIN:VCALENDAR
VERSION:2.0
PRODID:-//Craven County Law Enforcement Officer&#039;s Association - ECPv6.15.17.1//NONSGML v1.0//EN
CALSCALE:GREGORIAN
METHOD:PUBLISH
X-ORIGINAL-URL:https://ccleoa.org
X-WR-CALDESC:Events for Craven County Law Enforcement Officer&#039;s Association
REFRESH-INTERVAL;VALUE=DURATION:PT1H
X-Robots-Tag:noindex
X-PUBLISHED-TTL:PT1H
BEGIN:VTIMEZONE
TZID:America/New_York
BEGIN:DAYLIGHT
TZOFFSETFROM:-0500
TZOFFSETTO:-0400
TZNAME:EDT
DTSTART:20200308T070000
END:DAYLIGHT
BEGIN:STANDARD
TZOFFSETFROM:-0400
TZOFFSETTO:-0500
TZNAME:EST
DTSTART:20201101T060000
END:STANDARD
BEGIN:DAYLIGHT
TZOFFSETFROM:-0500
TZOFFSETTO:-0400
TZNAME:EDT
DTSTART:20210314T070000
END:DAYLIGHT
BEGIN:STANDARD
TZOFFSETFROM:-0400
TZOFFSETTO:-0500
TZNAME:EST
DTSTART:20211107T060000
END:STANDARD
BEGIN:DAYLIGHT
TZOFFSETFROM:-0500
TZOFFSETTO:-0400
TZNAME:EDT
DTSTART:20220313T070000
END:DAYLIGHT
BEGIN:STANDARD
TZOFFSETFROM:-0400
TZOFFSETTO:-0500
TZNAME:EST
DTSTART:20221106T060000
END:STANDARD
END:VTIMEZONE
BEGIN:VEVENT
DTSTART;TZID=America/New_York:20210901T090000
DTEND;TZID=America/New_York:20210901T120000
DTSTAMP:20260420T092735
CREATED:20210728T172312Z
LAST-MODIFIED:20250319T185901Z
UID:10000700-1630486800-1630497600@ccleoa.org
SUMMARY:RN TRAP Range E  Ranges C & D CLOSED during Trap hours
DESCRIPTION:
URL:https://ccleoa.org/event/trap-rifle-range-closed-during-trap-hours-5/2021-09-01/
CATEGORIES:Repeating Events,Trap-Rifle Range Closed
END:VEVENT
BEGIN:VEVENT
DTSTART;TZID=America/New_York:20210908T090000
DTEND;TZID=America/New_York:20210908T120000
DTSTAMP:20260420T092735
CREATED:20210728T172312Z
LAST-MODIFIED:20250319T185901Z
UID:10000701-1631091600-1631102400@ccleoa.org
SUMMARY:RN TRAP Range E  Ranges C & D CLOSED during Trap hours
DESCRIPTION:
URL:https://ccleoa.org/event/trap-rifle-range-closed-during-trap-hours-5/2021-09-08/
CATEGORIES:Repeating Events,Trap-Rifle Range Closed
END:VEVENT
BEGIN:VEVENT
DTSTART;TZID=America/New_York:20210915T090000
DTEND;TZID=America/New_York:20210915T120000
DTSTAMP:20260420T092735
CREATED:20210728T172312Z
LAST-MODIFIED:20250319T185901Z
UID:10000702-1631696400-1631707200@ccleoa.org
SUMMARY:RN TRAP Range E  Ranges C & D CLOSED during Trap hours
DESCRIPTION:
URL:https://ccleoa.org/event/trap-rifle-range-closed-during-trap-hours-5/2021-09-15/
CATEGORIES:Repeating Events,Trap-Rifle Range Closed
END:VEVENT
BEGIN:VEVENT
DTSTART;TZID=America/New_York:20210922T090000
DTEND;TZID=America/New_York:20210922T120000
DTSTAMP:20260420T092735
CREATED:20210728T172312Z
LAST-MODIFIED:20250319T185901Z
UID:10000703-1632301200-1632312000@ccleoa.org
SUMMARY:RN TRAP Range E  Ranges C & D CLOSED during Trap hours
DESCRIPTION:
URL:https://ccleoa.org/event/trap-rifle-range-closed-during-trap-hours-5/2021-09-22/
CATEGORIES:Repeating Events,Trap-Rifle Range Closed
END:VEVENT
BEGIN:VEVENT
DTSTART;TZID=America/New_York:20210929T090000
DTEND;TZID=America/New_York:20210929T120000
DTSTAMP:20260420T092735
CREATED:20210728T172312Z
LAST-MODIFIED:20250319T185901Z
UID:10000704-1632906000-1632916800@ccleoa.org
SUMMARY:RN TRAP Range E  Ranges C & D CLOSED during Trap hours
DESCRIPTION:
URL:https://ccleoa.org/event/trap-rifle-range-closed-during-trap-hours-5/2021-09-29/
CATEGORIES:Repeating Events,Trap-Rifle Range Closed
END:VEVENT
END:VCALENDAR