BEGIN:VCALENDAR
VERSION:2.0
PRODID:-//Craven County Law Enforcement Officer&#039;s Association - ECPv6.15.17.1//NONSGML v1.0//EN
CALSCALE:GREGORIAN
METHOD:PUBLISH
X-ORIGINAL-URL:https://ccleoa.org
X-WR-CALDESC:Events for Craven County Law Enforcement Officer&#039;s Association
REFRESH-INTERVAL;VALUE=DURATION:PT1H
X-Robots-Tag:noindex
X-PUBLISHED-TTL:PT1H
BEGIN:VTIMEZONE
TZID:America/New_York
BEGIN:DAYLIGHT
TZOFFSETFROM:-0500
TZOFFSETTO:-0400
TZNAME:EDT
DTSTART:20210314T070000
END:DAYLIGHT
BEGIN:STANDARD
TZOFFSETFROM:-0400
TZOFFSETTO:-0500
TZNAME:EST
DTSTART:20211107T060000
END:STANDARD
BEGIN:DAYLIGHT
TZOFFSETFROM:-0500
TZOFFSETTO:-0400
TZNAME:EDT
DTSTART:20220313T070000
END:DAYLIGHT
BEGIN:STANDARD
TZOFFSETFROM:-0400
TZOFFSETTO:-0500
TZNAME:EST
DTSTART:20221106T060000
END:STANDARD
BEGIN:DAYLIGHT
TZOFFSETFROM:-0500
TZOFFSETTO:-0400
TZNAME:EDT
DTSTART:20230312T070000
END:DAYLIGHT
BEGIN:STANDARD
TZOFFSETFROM:-0400
TZOFFSETTO:-0500
TZNAME:EST
DTSTART:20231105T060000
END:STANDARD
END:VTIMEZONE
BEGIN:VEVENT
DTSTART;TZID=America/New_York:20220206T075900
DTEND;TZID=America/New_York:20220206T170000
DTSTAMP:20260422T173735
CREATED:20210727T203446Z
LAST-MODIFIED:20250319T185126Z
UID:10000041-1644134340-1644166800@ccleoa.org
SUMMARY:Sunday Range Hours 1300-1800
DESCRIPTION:
URL:https://ccleoa.org/event/sunday-range-hours-1300-1800-3/2022-02-06/
CATEGORIES:Repeating Events,Sunday Range Hours
END:VEVENT
BEGIN:VEVENT
DTSTART;TZID=America/New_York:20220213T075900
DTEND;TZID=America/New_York:20220213T170000
DTSTAMP:20260422T173735
CREATED:20210727T203446Z
LAST-MODIFIED:20250319T185126Z
UID:10000042-1644739140-1644771600@ccleoa.org
SUMMARY:Sunday Range Hours 1300-1800
DESCRIPTION:
URL:https://ccleoa.org/event/sunday-range-hours-1300-1800-3/2022-02-13/
CATEGORIES:Repeating Events,Sunday Range Hours
END:VEVENT
BEGIN:VEVENT
DTSTART;TZID=America/New_York:20220220T075900
DTEND;TZID=America/New_York:20220220T170000
DTSTAMP:20260422T173735
CREATED:20210727T203446Z
LAST-MODIFIED:20250319T185126Z
UID:10000043-1645343940-1645376400@ccleoa.org
SUMMARY:Sunday Range Hours 1300-1800
DESCRIPTION:
URL:https://ccleoa.org/event/sunday-range-hours-1300-1800-3/2022-02-20/
CATEGORIES:Repeating Events,Sunday Range Hours
END:VEVENT
BEGIN:VEVENT
DTSTART;TZID=America/New_York:20220227T075900
DTEND;TZID=America/New_York:20220227T170000
DTSTAMP:20260422T173735
CREATED:20210727T203446Z
LAST-MODIFIED:20250319T185126Z
UID:10000044-1645948740-1645981200@ccleoa.org
SUMMARY:Sunday Range Hours 1300-1800
DESCRIPTION:
URL:https://ccleoa.org/event/sunday-range-hours-1300-1800-3/2022-02-27/
CATEGORIES:Repeating Events,Sunday Range Hours
END:VEVENT
END:VCALENDAR