BEGIN:VCALENDAR
VERSION:2.0
PRODID:-//Craven County Law Enforcement Officer&#039;s Association - ECPv6.15.17.1//NONSGML v1.0//EN
CALSCALE:GREGORIAN
METHOD:PUBLISH
X-WR-CALNAME:Craven County Law Enforcement Officer&#039;s Association
X-ORIGINAL-URL:https://ccleoa.org
X-WR-CALDESC:Events for Craven County Law Enforcement Officer&#039;s Association
REFRESH-INTERVAL;VALUE=DURATION:PT1H
X-Robots-Tag:noindex
X-PUBLISHED-TTL:PT1H
BEGIN:VTIMEZONE
TZID:America/New_York
BEGIN:DAYLIGHT
TZOFFSETFROM:-0500
TZOFFSETTO:-0400
TZNAME:EDT
DTSTART:20210314T070000
END:DAYLIGHT
BEGIN:STANDARD
TZOFFSETFROM:-0400
TZOFFSETTO:-0500
TZNAME:EST
DTSTART:20211107T060000
END:STANDARD
BEGIN:DAYLIGHT
TZOFFSETFROM:-0500
TZOFFSETTO:-0400
TZNAME:EDT
DTSTART:20220313T070000
END:DAYLIGHT
BEGIN:STANDARD
TZOFFSETFROM:-0400
TZOFFSETTO:-0500
TZNAME:EST
DTSTART:20221106T060000
END:STANDARD
BEGIN:DAYLIGHT
TZOFFSETFROM:-0500
TZOFFSETTO:-0400
TZNAME:EDT
DTSTART:20230312T070000
END:DAYLIGHT
BEGIN:STANDARD
TZOFFSETFROM:-0400
TZOFFSETTO:-0500
TZNAME:EST
DTSTART:20231105T060000
END:STANDARD
END:VTIMEZONE
BEGIN:VEVENT
DTSTART;TZID=America/New_York:20220302T090000
DTEND;TZID=America/New_York:20220302T120000
DTSTAMP:20260420T044236
CREATED:20210728T172312Z
LAST-MODIFIED:20250319T185901Z
UID:10000726-1646211600-1646222400@ccleoa.org
SUMMARY:RN TRAP Range E  Ranges C & D CLOSED during Trap hours
DESCRIPTION:
URL:https://ccleoa.org/event/trap-rifle-range-closed-during-trap-hours-5/2022-03-02/
CATEGORIES:Repeating Events,Trap-Rifle Range Closed
END:VEVENT
BEGIN:VEVENT
DTSTART;TZID=America/New_York:20220306T075900
DTEND;TZID=America/New_York:20220306T170000
DTSTAMP:20260420T044236
CREATED:20210727T203446Z
LAST-MODIFIED:20250319T185126Z
UID:10000045-1646553540-1646586000@ccleoa.org
SUMMARY:Sunday Range Hours 1300-1800
DESCRIPTION:
URL:https://ccleoa.org/event/sunday-range-hours-1300-1800-3/2022-03-06/
CATEGORIES:Repeating Events,Sunday Range Hours
END:VEVENT
BEGIN:VEVENT
DTSTART;TZID=America/New_York:20220307T090000
DTEND;TZID=America/New_York:20220307T120000
DTSTAMP:20260420T044236
CREATED:20210728T170307Z
LAST-MODIFIED:20250319T184713Z
UID:10000219-1646643600-1646654400@ccleoa.org
SUMMARY:Wobble Trap Shoot Range E   -   Ranges C & D CLOSED
DESCRIPTION:
URL:https://ccleoa.org/event/wobble-trap-shoot-rifle-range-closed-5/2022-03-07/
CATEGORIES:Repeating Events,Wobble Trap- Rifle Range Closed
END:VEVENT
BEGIN:VEVENT
DTSTART;TZID=America/New_York:20220309T090000
DTEND;TZID=America/New_York:20220309T120000
DTSTAMP:20260420T044236
CREATED:20210728T172312Z
LAST-MODIFIED:20250319T185901Z
UID:10000727-1646816400-1646827200@ccleoa.org
SUMMARY:RN TRAP Range E  Ranges C & D CLOSED during Trap hours
DESCRIPTION:
URL:https://ccleoa.org/event/trap-rifle-range-closed-during-trap-hours-5/2022-03-09/
CATEGORIES:Repeating Events,Trap-Rifle Range Closed
END:VEVENT
BEGIN:VEVENT
DTSTART;TZID=America/New_York:20220312T090000
DTEND;TZID=America/New_York:20220312T120000
DTSTAMP:20260420T044236
CREATED:20210728T173413Z
LAST-MODIFIED:20250319T185558Z
UID:10000877-1647075600-1647086400@ccleoa.org
SUMMARY:RN Trap Range E  When No Police have reserved Range. Ranges C & D CLOSED during Trap hours
DESCRIPTION:
URL:https://ccleoa.org/event/trap-when-no-police-have-reserved-range-rifle-range-closed-during-trap-hours-6/2022-03-12/
CATEGORIES:Repeating Events,Trap
END:VEVENT
BEGIN:VEVENT
DTSTART;TZID=America/New_York:20220312T133000
DTEND;TZID=America/New_York:20220312T170000
DTSTAMP:20260420T044236
CREATED:20210816T142616Z
LAST-MODIFIED:20210817T192436Z
UID:10001108-1647091800-1647104400@ccleoa.org
SUMMARY:Terry Deeb-TWAW-Classroom & Pistol Range
DESCRIPTION:
URL:https://ccleoa.org/event/terry-deeb-twaw-classroom-pistol-range-3/2022-03-12/
CATEGORIES:Members Open,Repeating Events
END:VEVENT
BEGIN:VEVENT
DTSTART;TZID=America/New_York:20220313T075900
DTEND;TZID=America/New_York:20220313T170000
DTSTAMP:20260420T044236
CREATED:20210727T203446Z
LAST-MODIFIED:20250319T185126Z
UID:10000046-1647158340-1647190800@ccleoa.org
SUMMARY:Sunday Range Hours 1300-1800
DESCRIPTION:
URL:https://ccleoa.org/event/sunday-range-hours-1300-1800-3/2022-03-13/
CATEGORIES:Repeating Events,Sunday Range Hours
END:VEVENT
BEGIN:VEVENT
DTSTART;TZID=America/New_York:20220314T090000
DTEND;TZID=America/New_York:20220314T120000
DTSTAMP:20260420T044236
CREATED:20210728T170307Z
LAST-MODIFIED:20250319T184713Z
UID:10000220-1647248400-1647259200@ccleoa.org
SUMMARY:Wobble Trap Shoot Range E   -   Ranges C & D CLOSED
DESCRIPTION:
URL:https://ccleoa.org/event/wobble-trap-shoot-rifle-range-closed-5/2022-03-14/
CATEGORIES:Repeating Events,Wobble Trap- Rifle Range Closed
END:VEVENT
BEGIN:VEVENT
DTSTART;TZID=America/New_York:20220316T090000
DTEND;TZID=America/New_York:20220316T120000
DTSTAMP:20260420T044236
CREATED:20210728T172312Z
LAST-MODIFIED:20250319T185901Z
UID:10000728-1647421200-1647432000@ccleoa.org
SUMMARY:RN TRAP Range E  Ranges C & D CLOSED during Trap hours
DESCRIPTION:
URL:https://ccleoa.org/event/trap-rifle-range-closed-during-trap-hours-5/2022-03-16/
CATEGORIES:Repeating Events,Trap-Rifle Range Closed
END:VEVENT
BEGIN:VEVENT
DTSTART;TZID=America/New_York:20220319T090000
DTEND;TZID=America/New_York:20220319T120000
DTSTAMP:20260420T044236
CREATED:20210728T173413Z
LAST-MODIFIED:20250319T185558Z
UID:10000878-1647680400-1647691200@ccleoa.org
SUMMARY:RN Trap Range E  When No Police have reserved Range. Ranges C & D CLOSED during Trap hours
DESCRIPTION:
URL:https://ccleoa.org/event/trap-when-no-police-have-reserved-range-rifle-range-closed-during-trap-hours-6/2022-03-19/
CATEGORIES:Repeating Events,Trap
END:VEVENT
BEGIN:VEVENT
DTSTART;TZID=America/New_York:20220320T075900
DTEND;TZID=America/New_York:20220320T170000
DTSTAMP:20260420T044236
CREATED:20210727T203446Z
LAST-MODIFIED:20250319T185126Z
UID:10000047-1647763140-1647795600@ccleoa.org
SUMMARY:Sunday Range Hours 1300-1800
DESCRIPTION:
URL:https://ccleoa.org/event/sunday-range-hours-1300-1800-3/2022-03-20/
CATEGORIES:Repeating Events,Sunday Range Hours
END:VEVENT
BEGIN:VEVENT
DTSTART;TZID=America/New_York:20220321T090000
DTEND;TZID=America/New_York:20220321T120000
DTSTAMP:20260420T044236
CREATED:20210728T170307Z
LAST-MODIFIED:20250319T184713Z
UID:10000221-1647853200-1647864000@ccleoa.org
SUMMARY:Wobble Trap Shoot Range E   -   Ranges C & D CLOSED
DESCRIPTION:
URL:https://ccleoa.org/event/wobble-trap-shoot-rifle-range-closed-5/2022-03-21/
CATEGORIES:Repeating Events,Wobble Trap- Rifle Range Closed
END:VEVENT
BEGIN:VEVENT
DTSTART;TZID=America/New_York:20220323T090000
DTEND;TZID=America/New_York:20220323T120000
DTSTAMP:20260420T044236
CREATED:20210728T172312Z
LAST-MODIFIED:20250319T185901Z
UID:10000729-1648026000-1648036800@ccleoa.org
SUMMARY:RN TRAP Range E  Ranges C & D CLOSED during Trap hours
DESCRIPTION:
URL:https://ccleoa.org/event/trap-rifle-range-closed-during-trap-hours-5/2022-03-23/
CATEGORIES:Repeating Events,Trap-Rifle Range Closed
END:VEVENT
BEGIN:VEVENT
DTSTART;TZID=America/New_York:20220326T090000
DTEND;TZID=America/New_York:20220326T120000
DTSTAMP:20260420T044236
CREATED:20210728T173413Z
LAST-MODIFIED:20250319T185558Z
UID:10000879-1648285200-1648296000@ccleoa.org
SUMMARY:RN Trap Range E  When No Police have reserved Range. Ranges C & D CLOSED during Trap hours
DESCRIPTION:
URL:https://ccleoa.org/event/trap-when-no-police-have-reserved-range-rifle-range-closed-during-trap-hours-6/2022-03-26/
CATEGORIES:Repeating Events,Trap
END:VEVENT
BEGIN:VEVENT
DTSTART;TZID=America/New_York:20220327T075900
DTEND;TZID=America/New_York:20220327T170000
DTSTAMP:20260420T044236
CREATED:20210727T203446Z
LAST-MODIFIED:20250319T185126Z
UID:10000048-1648367940-1648400400@ccleoa.org
SUMMARY:Sunday Range Hours 1300-1800
DESCRIPTION:
URL:https://ccleoa.org/event/sunday-range-hours-1300-1800-3/2022-03-27/
CATEGORIES:Repeating Events,Sunday Range Hours
END:VEVENT
BEGIN:VEVENT
DTSTART;TZID=America/New_York:20220328T090000
DTEND;TZID=America/New_York:20220328T120000
DTSTAMP:20260420T044236
CREATED:20210728T170307Z
LAST-MODIFIED:20250319T184713Z
UID:10000222-1648458000-1648468800@ccleoa.org
SUMMARY:Wobble Trap Shoot Range E   -   Ranges C & D CLOSED
DESCRIPTION:
URL:https://ccleoa.org/event/wobble-trap-shoot-rifle-range-closed-5/2022-03-28/
CATEGORIES:Repeating Events,Wobble Trap- Rifle Range Closed
END:VEVENT
BEGIN:VEVENT
DTSTART;TZID=America/New_York:20220330T090000
DTEND;TZID=America/New_York:20220330T120000
DTSTAMP:20260420T044236
CREATED:20210728T172312Z
LAST-MODIFIED:20250319T185901Z
UID:10000730-1648630800-1648641600@ccleoa.org
SUMMARY:RN TRAP Range E  Ranges C & D CLOSED during Trap hours
DESCRIPTION:
URL:https://ccleoa.org/event/trap-rifle-range-closed-during-trap-hours-5/2022-03-30/
CATEGORIES:Repeating Events,Trap-Rifle Range Closed
END:VEVENT
END:VCALENDAR