BEGIN:VCALENDAR
VERSION:2.0
PRODID:-//Craven County Law Enforcement Officer&#039;s Association - ECPv6.15.17.1//NONSGML v1.0//EN
CALSCALE:GREGORIAN
METHOD:PUBLISH
X-ORIGINAL-URL:https://ccleoa.org
X-WR-CALDESC:Events for Craven County Law Enforcement Officer&#039;s Association
REFRESH-INTERVAL;VALUE=DURATION:PT1H
X-Robots-Tag:noindex
X-PUBLISHED-TTL:PT1H
BEGIN:VTIMEZONE
TZID:America/New_York
BEGIN:DAYLIGHT
TZOFFSETFROM:-0500
TZOFFSETTO:-0400
TZNAME:EDT
DTSTART:20210314T070000
END:DAYLIGHT
BEGIN:STANDARD
TZOFFSETFROM:-0400
TZOFFSETTO:-0500
TZNAME:EST
DTSTART:20211107T060000
END:STANDARD
BEGIN:DAYLIGHT
TZOFFSETFROM:-0500
TZOFFSETTO:-0400
TZNAME:EDT
DTSTART:20220313T070000
END:DAYLIGHT
BEGIN:STANDARD
TZOFFSETFROM:-0400
TZOFFSETTO:-0500
TZNAME:EST
DTSTART:20221106T060000
END:STANDARD
BEGIN:DAYLIGHT
TZOFFSETFROM:-0500
TZOFFSETTO:-0400
TZNAME:EDT
DTSTART:20230312T070000
END:DAYLIGHT
BEGIN:STANDARD
TZOFFSETFROM:-0400
TZOFFSETTO:-0500
TZNAME:EST
DTSTART:20231105T060000
END:STANDARD
END:VTIMEZONE
BEGIN:VEVENT
DTSTART;TZID=America/New_York:20220101T090000
DTEND;TZID=America/New_York:20220101T120000
DTSTAMP:20260420T095513
CREATED:20210728T173413Z
LAST-MODIFIED:20250319T185558Z
UID:10000868-1641027600-1641038400@ccleoa.org
SUMMARY:RN Trap Range E  When No Police have reserved Range. Ranges C & D CLOSED during Trap hours
DESCRIPTION:
URL:https://ccleoa.org/event/trap-when-no-police-have-reserved-range-rifle-range-closed-during-trap-hours-6/2022-01-01/
CATEGORIES:Repeating Events,Trap
END:VEVENT
BEGIN:VEVENT
DTSTART;TZID=America/New_York:20220102T075900
DTEND;TZID=America/New_York:20220102T170000
DTSTAMP:20260420T095513
CREATED:20210727T203446Z
LAST-MODIFIED:20250319T185126Z
UID:10000036-1641110340-1641142800@ccleoa.org
SUMMARY:Sunday Range Hours 1300-1800
DESCRIPTION:
URL:https://ccleoa.org/event/sunday-range-hours-1300-1800-3/2022-01-02/
CATEGORIES:Repeating Events,Sunday Range Hours
END:VEVENT
BEGIN:VEVENT
DTSTART;TZID=America/New_York:20220103T090000
DTEND;TZID=America/New_York:20220103T120000
DTSTAMP:20260420T095513
CREATED:20210728T170307Z
LAST-MODIFIED:20250319T184713Z
UID:10000210-1641200400-1641211200@ccleoa.org
SUMMARY:Wobble Trap Shoot Range E   -   Ranges C & D CLOSED
DESCRIPTION:
URL:https://ccleoa.org/event/wobble-trap-shoot-rifle-range-closed-5/2022-01-03/
CATEGORIES:Repeating Events,Wobble Trap- Rifle Range Closed
END:VEVENT
BEGIN:VEVENT
DTSTART;TZID=America/New_York:20220105T090000
DTEND;TZID=America/New_York:20220105T120000
DTSTAMP:20260420T095513
CREATED:20210728T172312Z
LAST-MODIFIED:20250319T185901Z
UID:10000718-1641373200-1641384000@ccleoa.org
SUMMARY:RN TRAP Range E  Ranges C & D CLOSED during Trap hours
DESCRIPTION:
URL:https://ccleoa.org/event/trap-rifle-range-closed-during-trap-hours-5/2022-01-05/
CATEGORIES:Repeating Events,Trap-Rifle Range Closed
END:VEVENT
BEGIN:VEVENT
DTSTART;TZID=America/New_York:20220108T090000
DTEND;TZID=America/New_York:20220108T120000
DTSTAMP:20260420T095513
CREATED:20210728T173413Z
LAST-MODIFIED:20250319T185558Z
UID:10000869-1641632400-1641643200@ccleoa.org
SUMMARY:RN Trap Range E  When No Police have reserved Range. Ranges C & D CLOSED during Trap hours
DESCRIPTION:
URL:https://ccleoa.org/event/trap-when-no-police-have-reserved-range-rifle-range-closed-during-trap-hours-6/2022-01-08/
CATEGORIES:Repeating Events,Trap
END:VEVENT
BEGIN:VEVENT
DTSTART;TZID=America/New_York:20220108T133000
DTEND;TZID=America/New_York:20220108T170000
DTSTAMP:20260420T095513
CREATED:20210816T142616Z
LAST-MODIFIED:20210817T192436Z
UID:10001106-1641648600-1641661200@ccleoa.org
SUMMARY:Terry Deeb-TWAW-Classroom & Pistol Range
DESCRIPTION:
URL:https://ccleoa.org/event/terry-deeb-twaw-classroom-pistol-range-3/2022-01-08/
CATEGORIES:Members Open,Repeating Events
END:VEVENT
BEGIN:VEVENT
DTSTART;TZID=America/New_York:20220109T075900
DTEND;TZID=America/New_York:20220109T170000
DTSTAMP:20260420T095513
CREATED:20210727T203446Z
LAST-MODIFIED:20250319T185126Z
UID:10000037-1641715140-1641747600@ccleoa.org
SUMMARY:Sunday Range Hours 1300-1800
DESCRIPTION:
URL:https://ccleoa.org/event/sunday-range-hours-1300-1800-3/2022-01-09/
CATEGORIES:Repeating Events,Sunday Range Hours
END:VEVENT
BEGIN:VEVENT
DTSTART;TZID=America/New_York:20220110T090000
DTEND;TZID=America/New_York:20220110T120000
DTSTAMP:20260420T095513
CREATED:20210728T170307Z
LAST-MODIFIED:20250319T184713Z
UID:10000211-1641805200-1641816000@ccleoa.org
SUMMARY:Wobble Trap Shoot Range E   -   Ranges C & D CLOSED
DESCRIPTION:
URL:https://ccleoa.org/event/wobble-trap-shoot-rifle-range-closed-5/2022-01-10/
CATEGORIES:Repeating Events,Wobble Trap- Rifle Range Closed
END:VEVENT
BEGIN:VEVENT
DTSTART;TZID=America/New_York:20220112T090000
DTEND;TZID=America/New_York:20220112T120000
DTSTAMP:20260420T095513
CREATED:20210728T172312Z
LAST-MODIFIED:20250319T185901Z
UID:10000719-1641978000-1641988800@ccleoa.org
SUMMARY:RN TRAP Range E  Ranges C & D CLOSED during Trap hours
DESCRIPTION:
URL:https://ccleoa.org/event/trap-rifle-range-closed-during-trap-hours-5/2022-01-12/
CATEGORIES:Repeating Events,Trap-Rifle Range Closed
END:VEVENT
BEGIN:VEVENT
DTSTART;TZID=America/New_York:20220115T090000
DTEND;TZID=America/New_York:20220115T120000
DTSTAMP:20260420T095513
CREATED:20210728T173413Z
LAST-MODIFIED:20250319T185558Z
UID:10000870-1642237200-1642248000@ccleoa.org
SUMMARY:RN Trap Range E  When No Police have reserved Range. Ranges C & D CLOSED during Trap hours
DESCRIPTION:
URL:https://ccleoa.org/event/trap-when-no-police-have-reserved-range-rifle-range-closed-during-trap-hours-6/2022-01-15/
CATEGORIES:Repeating Events,Trap
END:VEVENT
BEGIN:VEVENT
DTSTART;TZID=America/New_York:20220116T075900
DTEND;TZID=America/New_York:20220116T170000
DTSTAMP:20260420T095513
CREATED:20210727T203446Z
LAST-MODIFIED:20250319T185126Z
UID:10000038-1642319940-1642352400@ccleoa.org
SUMMARY:Sunday Range Hours 1300-1800
DESCRIPTION:
URL:https://ccleoa.org/event/sunday-range-hours-1300-1800-3/2022-01-16/
CATEGORIES:Repeating Events,Sunday Range Hours
END:VEVENT
BEGIN:VEVENT
DTSTART;TZID=America/New_York:20220117T090000
DTEND;TZID=America/New_York:20220117T120000
DTSTAMP:20260420T095513
CREATED:20210728T170307Z
LAST-MODIFIED:20250319T184713Z
UID:10000212-1642410000-1642420800@ccleoa.org
SUMMARY:Wobble Trap Shoot Range E   -   Ranges C & D CLOSED
DESCRIPTION:
URL:https://ccleoa.org/event/wobble-trap-shoot-rifle-range-closed-5/2022-01-17/
CATEGORIES:Repeating Events,Wobble Trap- Rifle Range Closed
END:VEVENT
BEGIN:VEVENT
DTSTART;TZID=America/New_York:20220119T090000
DTEND;TZID=America/New_York:20220119T120000
DTSTAMP:20260420T095513
CREATED:20210728T172312Z
LAST-MODIFIED:20250319T185901Z
UID:10000720-1642582800-1642593600@ccleoa.org
SUMMARY:RN TRAP Range E  Ranges C & D CLOSED during Trap hours
DESCRIPTION:
URL:https://ccleoa.org/event/trap-rifle-range-closed-during-trap-hours-5/2022-01-19/
CATEGORIES:Repeating Events,Trap-Rifle Range Closed
END:VEVENT
BEGIN:VEVENT
DTSTART;TZID=America/New_York:20220122T090000
DTEND;TZID=America/New_York:20220122T120000
DTSTAMP:20260420T095513
CREATED:20210728T173413Z
LAST-MODIFIED:20250319T185558Z
UID:10000871-1642842000-1642852800@ccleoa.org
SUMMARY:RN Trap Range E  When No Police have reserved Range. Ranges C & D CLOSED during Trap hours
DESCRIPTION:
URL:https://ccleoa.org/event/trap-when-no-police-have-reserved-range-rifle-range-closed-during-trap-hours-6/2022-01-22/
CATEGORIES:Repeating Events,Trap
END:VEVENT
BEGIN:VEVENT
DTSTART;TZID=America/New_York:20220123T075900
DTEND;TZID=America/New_York:20220123T170000
DTSTAMP:20260420T095513
CREATED:20210727T203446Z
LAST-MODIFIED:20250319T185126Z
UID:10000039-1642924740-1642957200@ccleoa.org
SUMMARY:Sunday Range Hours 1300-1800
DESCRIPTION:
URL:https://ccleoa.org/event/sunday-range-hours-1300-1800-3/2022-01-23/
CATEGORIES:Repeating Events,Sunday Range Hours
END:VEVENT
BEGIN:VEVENT
DTSTART;TZID=America/New_York:20220124T090000
DTEND;TZID=America/New_York:20220124T120000
DTSTAMP:20260420T095513
CREATED:20210728T170307Z
LAST-MODIFIED:20250319T184713Z
UID:10000213-1643014800-1643025600@ccleoa.org
SUMMARY:Wobble Trap Shoot Range E   -   Ranges C & D CLOSED
DESCRIPTION:
URL:https://ccleoa.org/event/wobble-trap-shoot-rifle-range-closed-5/2022-01-24/
CATEGORIES:Repeating Events,Wobble Trap- Rifle Range Closed
END:VEVENT
BEGIN:VEVENT
DTSTART;TZID=America/New_York:20220126T090000
DTEND;TZID=America/New_York:20220126T120000
DTSTAMP:20260420T095513
CREATED:20210728T172312Z
LAST-MODIFIED:20250319T185901Z
UID:10000721-1643187600-1643198400@ccleoa.org
SUMMARY:RN TRAP Range E  Ranges C & D CLOSED during Trap hours
DESCRIPTION:
URL:https://ccleoa.org/event/trap-rifle-range-closed-during-trap-hours-5/2022-01-26/
CATEGORIES:Repeating Events,Trap-Rifle Range Closed
END:VEVENT
BEGIN:VEVENT
DTSTART;TZID=America/New_York:20220129T090000
DTEND;TZID=America/New_York:20220129T120000
DTSTAMP:20260420T095513
CREATED:20210728T173413Z
LAST-MODIFIED:20250319T185558Z
UID:10000872-1643446800-1643457600@ccleoa.org
SUMMARY:RN Trap Range E  When No Police have reserved Range. Ranges C & D CLOSED during Trap hours
DESCRIPTION:
URL:https://ccleoa.org/event/trap-when-no-police-have-reserved-range-rifle-range-closed-during-trap-hours-6/2022-01-29/
CATEGORIES:Repeating Events,Trap
END:VEVENT
BEGIN:VEVENT
DTSTART;TZID=America/New_York:20220130T075900
DTEND;TZID=America/New_York:20220130T170000
DTSTAMP:20260420T095513
CREATED:20210727T203446Z
LAST-MODIFIED:20250319T185126Z
UID:10000040-1643529540-1643562000@ccleoa.org
SUMMARY:Sunday Range Hours 1300-1800
DESCRIPTION:
URL:https://ccleoa.org/event/sunday-range-hours-1300-1800-3/2022-01-30/
CATEGORIES:Repeating Events,Sunday Range Hours
END:VEVENT
BEGIN:VEVENT
DTSTART;TZID=America/New_York:20220131T090000
DTEND;TZID=America/New_York:20220131T120000
DTSTAMP:20260420T095513
CREATED:20210728T170307Z
LAST-MODIFIED:20250319T184713Z
UID:10000214-1643619600-1643630400@ccleoa.org
SUMMARY:Wobble Trap Shoot Range E   -   Ranges C & D CLOSED
DESCRIPTION:
URL:https://ccleoa.org/event/wobble-trap-shoot-rifle-range-closed-5/2022-01-31/
CATEGORIES:Repeating Events,Wobble Trap- Rifle Range Closed
END:VEVENT
END:VCALENDAR