BEGIN:VCALENDAR
VERSION:2.0
PRODID:-//Craven County Law Enforcement Officer&#039;s Association - ECPv6.15.17.1//NONSGML v1.0//EN
CALSCALE:GREGORIAN
METHOD:PUBLISH
X-WR-CALNAME:Craven County Law Enforcement Officer&#039;s Association
X-ORIGINAL-URL:https://ccleoa.org
X-WR-CALDESC:Events for Craven County Law Enforcement Officer&#039;s Association
REFRESH-INTERVAL;VALUE=DURATION:PT1H
X-Robots-Tag:noindex
X-PUBLISHED-TTL:PT1H
BEGIN:VTIMEZONE
TZID:America/New_York
BEGIN:DAYLIGHT
TZOFFSETFROM:-0500
TZOFFSETTO:-0400
TZNAME:EDT
DTSTART:20200308T070000
END:DAYLIGHT
BEGIN:STANDARD
TZOFFSETFROM:-0400
TZOFFSETTO:-0500
TZNAME:EST
DTSTART:20201101T060000
END:STANDARD
BEGIN:DAYLIGHT
TZOFFSETFROM:-0500
TZOFFSETTO:-0400
TZNAME:EDT
DTSTART:20210314T070000
END:DAYLIGHT
BEGIN:STANDARD
TZOFFSETFROM:-0400
TZOFFSETTO:-0500
TZNAME:EST
DTSTART:20211107T060000
END:STANDARD
BEGIN:DAYLIGHT
TZOFFSETFROM:-0500
TZOFFSETTO:-0400
TZNAME:EDT
DTSTART:20220313T070000
END:DAYLIGHT
BEGIN:STANDARD
TZOFFSETFROM:-0400
TZOFFSETTO:-0500
TZNAME:EST
DTSTART:20221106T060000
END:STANDARD
END:VTIMEZONE
BEGIN:VEVENT
DTSTART;TZID=America/New_York:20211101T090000
DTEND;TZID=America/New_York:20211101T120000
DTSTAMP:20260420T125309
CREATED:20210728T170307Z
LAST-MODIFIED:20250319T184713Z
UID:10000201-1635757200-1635768000@ccleoa.org
SUMMARY:Wobble Trap Shoot Range E   -   Ranges C & D CLOSED
DESCRIPTION:
URL:https://ccleoa.org/event/wobble-trap-shoot-rifle-range-closed-5/2021-11-01/
CATEGORIES:Repeating Events,Wobble Trap- Rifle Range Closed
END:VEVENT
BEGIN:VEVENT
DTSTART;TZID=America/New_York:20211103T090000
DTEND;TZID=America/New_York:20211103T120000
DTSTAMP:20260420T125309
CREATED:20210728T172312Z
LAST-MODIFIED:20250319T185901Z
UID:10000709-1635930000-1635940800@ccleoa.org
SUMMARY:RN TRAP Range E  Ranges C & D CLOSED during Trap hours
DESCRIPTION:
URL:https://ccleoa.org/event/trap-rifle-range-closed-during-trap-hours-5/2021-11-03/
CATEGORIES:Repeating Events,Trap-Rifle Range Closed
END:VEVENT
BEGIN:VEVENT
DTSTART;TZID=America/New_York:20211106T090000
DTEND;TZID=America/New_York:20211106T120000
DTSTAMP:20260420T125309
CREATED:20210728T173413Z
LAST-MODIFIED:20250319T185558Z
UID:10000861-1636189200-1636200000@ccleoa.org
SUMMARY:RN Trap Range E  When No Police have reserved Range. Ranges C & D CLOSED during Trap hours
DESCRIPTION:
URL:https://ccleoa.org/event/trap-when-no-police-have-reserved-range-rifle-range-closed-during-trap-hours-6/2021-11-06/
CATEGORIES:Repeating Events,Trap
END:VEVENT
BEGIN:VEVENT
DTSTART;TZID=America/New_York:20211107T075900
DTEND;TZID=America/New_York:20211107T170000
DTSTAMP:20260420T125309
CREATED:20210727T203446Z
LAST-MODIFIED:20250319T185126Z
UID:10000028-1636271940-1636304400@ccleoa.org
SUMMARY:Sunday Range Hours 1300-1800
DESCRIPTION:
URL:https://ccleoa.org/event/sunday-range-hours-1300-1800-3/2021-11-07/
CATEGORIES:Repeating Events,Sunday Range Hours
END:VEVENT
BEGIN:VEVENT
DTSTART;TZID=America/New_York:20211108T090000
DTEND;TZID=America/New_York:20211108T120000
DTSTAMP:20260420T125309
CREATED:20210728T170307Z
LAST-MODIFIED:20250319T184713Z
UID:10000202-1636362000-1636372800@ccleoa.org
SUMMARY:Wobble Trap Shoot Range E   -   Ranges C & D CLOSED
DESCRIPTION:
URL:https://ccleoa.org/event/wobble-trap-shoot-rifle-range-closed-5/2021-11-08/
CATEGORIES:Repeating Events,Wobble Trap- Rifle Range Closed
END:VEVENT
BEGIN:VEVENT
DTSTART;TZID=America/New_York:20211110T090000
DTEND;TZID=America/New_York:20211110T120000
DTSTAMP:20260420T125309
CREATED:20210728T172312Z
LAST-MODIFIED:20250319T185901Z
UID:10000710-1636534800-1636545600@ccleoa.org
SUMMARY:RN TRAP Range E  Ranges C & D CLOSED during Trap hours
DESCRIPTION:
URL:https://ccleoa.org/event/trap-rifle-range-closed-during-trap-hours-5/2021-11-10/
CATEGORIES:Repeating Events,Trap-Rifle Range Closed
END:VEVENT
BEGIN:VEVENT
DTSTART;TZID=America/New_York:20211113T090000
DTEND;TZID=America/New_York:20211113T120000
DTSTAMP:20260420T125309
CREATED:20210728T173413Z
LAST-MODIFIED:20250319T185558Z
UID:10000862-1636794000-1636804800@ccleoa.org
SUMMARY:RN Trap Range E  When No Police have reserved Range. Ranges C & D CLOSED during Trap hours
DESCRIPTION:
URL:https://ccleoa.org/event/trap-when-no-police-have-reserved-range-rifle-range-closed-during-trap-hours-6/2021-11-13/
CATEGORIES:Repeating Events,Trap
END:VEVENT
BEGIN:VEVENT
DTSTART;TZID=America/New_York:20211113T100000
DTEND;TZID=America/New_York:20211113T170000
DTSTAMP:20260420T125309
CREATED:20210816T142616Z
LAST-MODIFIED:20211111T221213Z
UID:10001224-1636797600-1636822800@ccleoa.org
SUMMARY:Terry Deeb-TWAW-Classroom & Pistol Range
DESCRIPTION:
URL:https://ccleoa.org/event/terry-deeb-twaw-classroom-pistol-range-3-2021-11-13/
CATEGORIES:Members Open,Repeating Events
END:VEVENT
BEGIN:VEVENT
DTSTART;TZID=America/New_York:20211114T075900
DTEND;TZID=America/New_York:20211114T170000
DTSTAMP:20260420T125309
CREATED:20210727T203446Z
LAST-MODIFIED:20250319T185126Z
UID:10000029-1636876740-1636909200@ccleoa.org
SUMMARY:Sunday Range Hours 1300-1800
DESCRIPTION:
URL:https://ccleoa.org/event/sunday-range-hours-1300-1800-3/2021-11-14/
CATEGORIES:Repeating Events,Sunday Range Hours
END:VEVENT
BEGIN:VEVENT
DTSTART;TZID=America/New_York:20211115T090000
DTEND;TZID=America/New_York:20211115T120000
DTSTAMP:20260420T125309
CREATED:20210728T170307Z
LAST-MODIFIED:20250319T184713Z
UID:10000203-1636966800-1636977600@ccleoa.org
SUMMARY:Wobble Trap Shoot Range E   -   Ranges C & D CLOSED
DESCRIPTION:
URL:https://ccleoa.org/event/wobble-trap-shoot-rifle-range-closed-5/2021-11-15/
CATEGORIES:Repeating Events,Wobble Trap- Rifle Range Closed
END:VEVENT
BEGIN:VEVENT
DTSTART;TZID=America/New_York:20211117T090000
DTEND;TZID=America/New_York:20211117T120000
DTSTAMP:20260420T125309
CREATED:20210728T172312Z
LAST-MODIFIED:20250319T185901Z
UID:10000711-1637139600-1637150400@ccleoa.org
SUMMARY:RN TRAP Range E  Ranges C & D CLOSED during Trap hours
DESCRIPTION:
URL:https://ccleoa.org/event/trap-rifle-range-closed-during-trap-hours-5/2021-11-17/
CATEGORIES:Repeating Events,Trap-Rifle Range Closed
END:VEVENT
BEGIN:VEVENT
DTSTART;TZID=America/New_York:20211120T090000
DTEND;TZID=America/New_York:20211120T120000
DTSTAMP:20260420T125309
CREATED:20210728T173413Z
LAST-MODIFIED:20250319T185558Z
UID:10000863-1637398800-1637409600@ccleoa.org
SUMMARY:RN Trap Range E  When No Police have reserved Range. Ranges C & D CLOSED during Trap hours
DESCRIPTION:
URL:https://ccleoa.org/event/trap-when-no-police-have-reserved-range-rifle-range-closed-during-trap-hours-6/2021-11-20/
CATEGORIES:Repeating Events,Trap
END:VEVENT
BEGIN:VEVENT
DTSTART;TZID=America/New_York:20211121T075900
DTEND;TZID=America/New_York:20211121T170000
DTSTAMP:20260420T125309
CREATED:20210727T203446Z
LAST-MODIFIED:20250319T185126Z
UID:10000030-1637481540-1637514000@ccleoa.org
SUMMARY:Sunday Range Hours 1300-1800
DESCRIPTION:
URL:https://ccleoa.org/event/sunday-range-hours-1300-1800-3/2021-11-21/
CATEGORIES:Repeating Events,Sunday Range Hours
END:VEVENT
BEGIN:VEVENT
DTSTART;TZID=America/New_York:20211122T090000
DTEND;TZID=America/New_York:20211122T120000
DTSTAMP:20260420T125309
CREATED:20210728T170307Z
LAST-MODIFIED:20250319T184713Z
UID:10000204-1637571600-1637582400@ccleoa.org
SUMMARY:Wobble Trap Shoot Range E   -   Ranges C & D CLOSED
DESCRIPTION:
URL:https://ccleoa.org/event/wobble-trap-shoot-rifle-range-closed-5/2021-11-22/
CATEGORIES:Repeating Events,Wobble Trap- Rifle Range Closed
END:VEVENT
BEGIN:VEVENT
DTSTART;TZID=America/New_York:20211124T090000
DTEND;TZID=America/New_York:20211124T120000
DTSTAMP:20260420T125309
CREATED:20210728T172312Z
LAST-MODIFIED:20250319T185901Z
UID:10000712-1637744400-1637755200@ccleoa.org
SUMMARY:RN TRAP Range E  Ranges C & D CLOSED during Trap hours
DESCRIPTION:
URL:https://ccleoa.org/event/trap-rifle-range-closed-during-trap-hours-5/2021-11-24/
CATEGORIES:Repeating Events,Trap-Rifle Range Closed
END:VEVENT
BEGIN:VEVENT
DTSTART;TZID=America/New_York:20211127T090000
DTEND;TZID=America/New_York:20211127T120000
DTSTAMP:20260420T125309
CREATED:20210728T173413Z
LAST-MODIFIED:20250319T185558Z
UID:10000864-1638003600-1638014400@ccleoa.org
SUMMARY:RN Trap Range E  When No Police have reserved Range. Ranges C & D CLOSED during Trap hours
DESCRIPTION:
URL:https://ccleoa.org/event/trap-when-no-police-have-reserved-range-rifle-range-closed-during-trap-hours-6/2021-11-27/
CATEGORIES:Repeating Events,Trap
END:VEVENT
BEGIN:VEVENT
DTSTART;TZID=America/New_York:20211128T075900
DTEND;TZID=America/New_York:20211128T170000
DTSTAMP:20260420T125309
CREATED:20210727T203446Z
LAST-MODIFIED:20250319T185126Z
UID:10000031-1638086340-1638118800@ccleoa.org
SUMMARY:Sunday Range Hours 1300-1800
DESCRIPTION:
URL:https://ccleoa.org/event/sunday-range-hours-1300-1800-3/2021-11-28/
CATEGORIES:Repeating Events,Sunday Range Hours
END:VEVENT
BEGIN:VEVENT
DTSTART;TZID=America/New_York:20211129T090000
DTEND;TZID=America/New_York:20211129T120000
DTSTAMP:20260420T125309
CREATED:20210728T170307Z
LAST-MODIFIED:20250319T184713Z
UID:10000205-1638176400-1638187200@ccleoa.org
SUMMARY:Wobble Trap Shoot Range E   -   Ranges C & D CLOSED
DESCRIPTION:
URL:https://ccleoa.org/event/wobble-trap-shoot-rifle-range-closed-5/2021-11-29/
CATEGORIES:Repeating Events,Wobble Trap- Rifle Range Closed
END:VEVENT
END:VCALENDAR