BEGIN:VCALENDAR
VERSION:2.0
PRODID:-//Craven County Law Enforcement Officer&#039;s Association - ECPv6.15.17.1//NONSGML v1.0//EN
CALSCALE:GREGORIAN
METHOD:PUBLISH
X-ORIGINAL-URL:https://ccleoa.org
X-WR-CALDESC:Events for Craven County Law Enforcement Officer&#039;s Association
REFRESH-INTERVAL;VALUE=DURATION:PT1H
X-Robots-Tag:noindex
X-PUBLISHED-TTL:PT1H
BEGIN:VTIMEZONE
TZID:America/New_York
BEGIN:DAYLIGHT
TZOFFSETFROM:-0500
TZOFFSETTO:-0400
TZNAME:EDT
DTSTART:20200308T070000
END:DAYLIGHT
BEGIN:STANDARD
TZOFFSETFROM:-0400
TZOFFSETTO:-0500
TZNAME:EST
DTSTART:20201101T060000
END:STANDARD
BEGIN:DAYLIGHT
TZOFFSETFROM:-0500
TZOFFSETTO:-0400
TZNAME:EDT
DTSTART:20210314T070000
END:DAYLIGHT
BEGIN:STANDARD
TZOFFSETFROM:-0400
TZOFFSETTO:-0500
TZNAME:EST
DTSTART:20211107T060000
END:STANDARD
BEGIN:DAYLIGHT
TZOFFSETFROM:-0500
TZOFFSETTO:-0400
TZNAME:EDT
DTSTART:20220313T070000
END:DAYLIGHT
BEGIN:STANDARD
TZOFFSETFROM:-0400
TZOFFSETTO:-0500
TZNAME:EST
DTSTART:20221106T060000
END:STANDARD
END:VTIMEZONE
BEGIN:VEVENT
DTSTART;TZID=America/New_York:20211002T090000
DTEND;TZID=America/New_York:20211002T120000
DTSTAMP:20260420T141902
CREATED:20210728T173413Z
LAST-MODIFIED:20250319T185558Z
UID:10000856-1633165200-1633176000@ccleoa.org
SUMMARY:RN Trap Range E  When No Police have reserved Range. Ranges C & D CLOSED during Trap hours
DESCRIPTION:
URL:https://ccleoa.org/event/trap-when-no-police-have-reserved-range-rifle-range-closed-during-trap-hours-6/2021-10-02/
CATEGORIES:Repeating Events,Trap
END:VEVENT
BEGIN:VEVENT
DTSTART;TZID=America/New_York:20211003T075900
DTEND;TZID=America/New_York:20211003T170000
DTSTAMP:20260420T141902
CREATED:20210727T203446Z
LAST-MODIFIED:20250319T185126Z
UID:10000023-1633247940-1633280400@ccleoa.org
SUMMARY:Sunday Range Hours 1300-1800
DESCRIPTION:
URL:https://ccleoa.org/event/sunday-range-hours-1300-1800-3/2021-10-03/
CATEGORIES:Repeating Events,Sunday Range Hours
END:VEVENT
BEGIN:VEVENT
DTSTART;TZID=America/New_York:20211004T090000
DTEND;TZID=America/New_York:20211004T120000
DTSTAMP:20260420T141902
CREATED:20210728T170307Z
LAST-MODIFIED:20250319T184713Z
UID:10000197-1633338000-1633348800@ccleoa.org
SUMMARY:Wobble Trap Shoot Range E   -   Ranges C & D CLOSED
DESCRIPTION:
URL:https://ccleoa.org/event/wobble-trap-shoot-rifle-range-closed-5/2021-10-04/
CATEGORIES:Repeating Events,Wobble Trap- Rifle Range Closed
END:VEVENT
BEGIN:VEVENT
DTSTART;TZID=America/New_York:20211006T090000
DTEND;TZID=America/New_York:20211006T120000
DTSTAMP:20260420T141902
CREATED:20210728T172312Z
LAST-MODIFIED:20250319T185901Z
UID:10000705-1633510800-1633521600@ccleoa.org
SUMMARY:RN TRAP Range E  Ranges C & D CLOSED during Trap hours
DESCRIPTION:
URL:https://ccleoa.org/event/trap-rifle-range-closed-during-trap-hours-5/2021-10-06/
CATEGORIES:Repeating Events,Trap-Rifle Range Closed
END:VEVENT
BEGIN:VEVENT
DTSTART;TZID=America/New_York:20211009T090000
DTEND;TZID=America/New_York:20211009T120000
DTSTAMP:20260420T141902
CREATED:20210728T173413Z
LAST-MODIFIED:20250319T185558Z
UID:10000857-1633770000-1633780800@ccleoa.org
SUMMARY:RN Trap Range E  When No Police have reserved Range. Ranges C & D CLOSED during Trap hours
DESCRIPTION:
URL:https://ccleoa.org/event/trap-when-no-police-have-reserved-range-rifle-range-closed-during-trap-hours-6/2021-10-09/
CATEGORIES:Repeating Events,Trap
END:VEVENT
BEGIN:VEVENT
DTSTART;TZID=America/New_York:20211009T133000
DTEND;TZID=America/New_York:20211009T170000
DTSTAMP:20260420T141902
CREATED:20210816T142616Z
LAST-MODIFIED:20210817T192436Z
UID:10001104-1633786200-1633798800@ccleoa.org
SUMMARY:Terry Deeb-TWAW-Classroom & Pistol Range
DESCRIPTION:
URL:https://ccleoa.org/event/terry-deeb-twaw-classroom-pistol-range-3/2021-10-09/
CATEGORIES:Members Open,Repeating Events
END:VEVENT
BEGIN:VEVENT
DTSTART;TZID=America/New_York:20211010T075900
DTEND;TZID=America/New_York:20211010T170000
DTSTAMP:20260420T141902
CREATED:20210727T203446Z
LAST-MODIFIED:20250319T185126Z
UID:10000024-1633852740-1633885200@ccleoa.org
SUMMARY:Sunday Range Hours 1300-1800
DESCRIPTION:
URL:https://ccleoa.org/event/sunday-range-hours-1300-1800-3/2021-10-10/
CATEGORIES:Repeating Events,Sunday Range Hours
END:VEVENT
BEGIN:VEVENT
DTSTART;TZID=America/New_York:20211011T090000
DTEND;TZID=America/New_York:20211011T120000
DTSTAMP:20260420T141902
CREATED:20210728T170307Z
LAST-MODIFIED:20250319T184713Z
UID:10000198-1633942800-1633953600@ccleoa.org
SUMMARY:Wobble Trap Shoot Range E   -   Ranges C & D CLOSED
DESCRIPTION:
URL:https://ccleoa.org/event/wobble-trap-shoot-rifle-range-closed-5/2021-10-11/
CATEGORIES:Repeating Events,Wobble Trap- Rifle Range Closed
END:VEVENT
BEGIN:VEVENT
DTSTART;TZID=America/New_York:20211013T090000
DTEND;TZID=America/New_York:20211013T120000
DTSTAMP:20260420T141902
CREATED:20210728T172312Z
LAST-MODIFIED:20250319T185901Z
UID:10000706-1634115600-1634126400@ccleoa.org
SUMMARY:RN TRAP Range E  Ranges C & D CLOSED during Trap hours
DESCRIPTION:
URL:https://ccleoa.org/event/trap-rifle-range-closed-during-trap-hours-5/2021-10-13/
CATEGORIES:Repeating Events,Trap-Rifle Range Closed
END:VEVENT
BEGIN:VEVENT
DTSTART;TZID=America/New_York:20211016T090000
DTEND;TZID=America/New_York:20211016T120000
DTSTAMP:20260420T141902
CREATED:20210728T173413Z
LAST-MODIFIED:20250319T185558Z
UID:10000858-1634374800-1634385600@ccleoa.org
SUMMARY:RN Trap Range E  When No Police have reserved Range. Ranges C & D CLOSED during Trap hours
DESCRIPTION:
URL:https://ccleoa.org/event/trap-when-no-police-have-reserved-range-rifle-range-closed-during-trap-hours-6/2021-10-16/
CATEGORIES:Repeating Events,Trap
END:VEVENT
BEGIN:VEVENT
DTSTART;TZID=America/New_York:20211017T075900
DTEND;TZID=America/New_York:20211017T170000
DTSTAMP:20260420T141902
CREATED:20210727T203446Z
LAST-MODIFIED:20250319T185126Z
UID:10000025-1634457540-1634490000@ccleoa.org
SUMMARY:Sunday Range Hours 1300-1800
DESCRIPTION:
URL:https://ccleoa.org/event/sunday-range-hours-1300-1800-3/2021-10-17/
CATEGORIES:Repeating Events,Sunday Range Hours
END:VEVENT
BEGIN:VEVENT
DTSTART;TZID=America/New_York:20211018T090000
DTEND;TZID=America/New_York:20211018T120000
DTSTAMP:20260420T141902
CREATED:20210728T170307Z
LAST-MODIFIED:20250319T184713Z
UID:10000199-1634547600-1634558400@ccleoa.org
SUMMARY:Wobble Trap Shoot Range E   -   Ranges C & D CLOSED
DESCRIPTION:
URL:https://ccleoa.org/event/wobble-trap-shoot-rifle-range-closed-5/2021-10-18/
CATEGORIES:Repeating Events,Wobble Trap- Rifle Range Closed
END:VEVENT
BEGIN:VEVENT
DTSTART;TZID=America/New_York:20211020T090000
DTEND;TZID=America/New_York:20211020T120000
DTSTAMP:20260420T141902
CREATED:20210728T172312Z
LAST-MODIFIED:20250319T185901Z
UID:10000707-1634720400-1634731200@ccleoa.org
SUMMARY:RN TRAP Range E  Ranges C & D CLOSED during Trap hours
DESCRIPTION:
URL:https://ccleoa.org/event/trap-rifle-range-closed-during-trap-hours-5/2021-10-20/
CATEGORIES:Repeating Events,Trap-Rifle Range Closed
END:VEVENT
BEGIN:VEVENT
DTSTART;TZID=America/New_York:20211023T090000
DTEND;TZID=America/New_York:20211023T120000
DTSTAMP:20260420T141902
CREATED:20210728T173413Z
LAST-MODIFIED:20250319T185558Z
UID:10000859-1634979600-1634990400@ccleoa.org
SUMMARY:RN Trap Range E  When No Police have reserved Range. Ranges C & D CLOSED during Trap hours
DESCRIPTION:
URL:https://ccleoa.org/event/trap-when-no-police-have-reserved-range-rifle-range-closed-during-trap-hours-6/2021-10-23/
CATEGORIES:Repeating Events,Trap
END:VEVENT
BEGIN:VEVENT
DTSTART;TZID=America/New_York:20211024T075900
DTEND;TZID=America/New_York:20211024T170000
DTSTAMP:20260420T141902
CREATED:20210727T203446Z
LAST-MODIFIED:20250319T185126Z
UID:10000026-1635062340-1635094800@ccleoa.org
SUMMARY:Sunday Range Hours 1300-1800
DESCRIPTION:
URL:https://ccleoa.org/event/sunday-range-hours-1300-1800-3/2021-10-24/
CATEGORIES:Repeating Events,Sunday Range Hours
END:VEVENT
BEGIN:VEVENT
DTSTART;TZID=America/New_York:20211025T090000
DTEND;TZID=America/New_York:20211025T120000
DTSTAMP:20260420T141902
CREATED:20210728T170307Z
LAST-MODIFIED:20250319T184713Z
UID:10000200-1635152400-1635163200@ccleoa.org
SUMMARY:Wobble Trap Shoot Range E   -   Ranges C & D CLOSED
DESCRIPTION:
URL:https://ccleoa.org/event/wobble-trap-shoot-rifle-range-closed-5/2021-10-25/
CATEGORIES:Repeating Events,Wobble Trap- Rifle Range Closed
END:VEVENT
BEGIN:VEVENT
DTSTART;TZID=America/New_York:20211027T090000
DTEND;TZID=America/New_York:20211027T120000
DTSTAMP:20260420T141902
CREATED:20210728T172312Z
LAST-MODIFIED:20250319T185901Z
UID:10000708-1635325200-1635336000@ccleoa.org
SUMMARY:RN TRAP Range E  Ranges C & D CLOSED during Trap hours
DESCRIPTION:
URL:https://ccleoa.org/event/trap-rifle-range-closed-during-trap-hours-5/2021-10-27/
CATEGORIES:Repeating Events,Trap-Rifle Range Closed
END:VEVENT
BEGIN:VEVENT
DTSTART;TZID=America/New_York:20211030T090000
DTEND;TZID=America/New_York:20211030T120000
DTSTAMP:20260420T141902
CREATED:20210728T173413Z
LAST-MODIFIED:20250319T185558Z
UID:10000860-1635584400-1635595200@ccleoa.org
SUMMARY:RN Trap Range E  When No Police have reserved Range. Ranges C & D CLOSED during Trap hours
DESCRIPTION:
URL:https://ccleoa.org/event/trap-when-no-police-have-reserved-range-rifle-range-closed-during-trap-hours-6/2021-10-30/
CATEGORIES:Repeating Events,Trap
END:VEVENT
BEGIN:VEVENT
DTSTART;TZID=America/New_York:20211031T075900
DTEND;TZID=America/New_York:20211031T170000
DTSTAMP:20260420T141902
CREATED:20210727T203446Z
LAST-MODIFIED:20250319T185126Z
UID:10000027-1635667140-1635699600@ccleoa.org
SUMMARY:Sunday Range Hours 1300-1800
DESCRIPTION:
URL:https://ccleoa.org/event/sunday-range-hours-1300-1800-3/2021-10-31/
CATEGORIES:Repeating Events,Sunday Range Hours
END:VEVENT
END:VCALENDAR