BEGIN:VCALENDAR
VERSION:2.0
PRODID:-//Craven County Law Enforcement Officer&#039;s Association - ECPv6.15.17.1//NONSGML v1.0//EN
CALSCALE:GREGORIAN
METHOD:PUBLISH
X-ORIGINAL-URL:https://ccleoa.org
X-WR-CALDESC:Events for Craven County Law Enforcement Officer&#039;s Association
REFRESH-INTERVAL;VALUE=DURATION:PT1H
X-Robots-Tag:noindex
X-PUBLISHED-TTL:PT1H
BEGIN:VTIMEZONE
TZID:America/New_York
BEGIN:DAYLIGHT
TZOFFSETFROM:-0500
TZOFFSETTO:-0400
TZNAME:EDT
DTSTART:20200308T070000
END:DAYLIGHT
BEGIN:STANDARD
TZOFFSETFROM:-0400
TZOFFSETTO:-0500
TZNAME:EST
DTSTART:20201101T060000
END:STANDARD
BEGIN:DAYLIGHT
TZOFFSETFROM:-0500
TZOFFSETTO:-0400
TZNAME:EDT
DTSTART:20210314T070000
END:DAYLIGHT
BEGIN:STANDARD
TZOFFSETFROM:-0400
TZOFFSETTO:-0500
TZNAME:EST
DTSTART:20211107T060000
END:STANDARD
BEGIN:DAYLIGHT
TZOFFSETFROM:-0500
TZOFFSETTO:-0400
TZNAME:EDT
DTSTART:20220313T070000
END:DAYLIGHT
BEGIN:STANDARD
TZOFFSETFROM:-0400
TZOFFSETTO:-0500
TZNAME:EST
DTSTART:20221106T060000
END:STANDARD
END:VTIMEZONE
BEGIN:VEVENT
DTSTART;TZID=America/New_York:20210704T075900
DTEND;TZID=America/New_York:20210704T170000
DTSTAMP:20260420T191149
CREATED:20210727T140502Z
LAST-MODIFIED:20210817T190342Z
UID:10000006-1625385540-1625418000@ccleoa.org
SUMMARY:Sunday Range Hours 1300-1800
DESCRIPTION:
URL:https://ccleoa.org/event/sunday-range-hours-1300-1800/
CATEGORIES:Repeating Events,Sunday Range Hours
END:VEVENT
BEGIN:VEVENT
DTSTART;TZID=America/New_York:20210705T090000
DTEND;TZID=America/New_York:20210705T120000
DTSTAMP:20260420T191149
CREATED:20210728T170307Z
LAST-MODIFIED:20250319T184713Z
UID:10000185-1625475600-1625486400@ccleoa.org
SUMMARY:Wobble Trap Shoot Range E   -   Ranges C & D CLOSED
DESCRIPTION:
URL:https://ccleoa.org/event/wobble-trap-shoot-rifle-range-closed-5/2021-07-05/
CATEGORIES:Repeating Events,Wobble Trap- Rifle Range Closed
END:VEVENT
BEGIN:VEVENT
DTSTART;TZID=America/New_York:20210707T090000
DTEND;TZID=America/New_York:20210707T120000
DTSTAMP:20260420T191149
CREATED:20210728T172312Z
LAST-MODIFIED:20250319T185901Z
UID:10000692-1625648400-1625659200@ccleoa.org
SUMMARY:RN TRAP Range E  Ranges C & D CLOSED during Trap hours
DESCRIPTION:
URL:https://ccleoa.org/event/trap-rifle-range-closed-during-trap-hours-5/2021-07-07/
CATEGORIES:Repeating Events,Trap-Rifle Range Closed
END:VEVENT
BEGIN:VEVENT
DTSTART;TZID=America/New_York:20210710T133000
DTEND;TZID=America/New_York:20210710T170000
DTSTAMP:20260420T191149
CREATED:20210727T173826Z
LAST-MODIFIED:20210817T192436Z
UID:10000173-1625923800-1625936400@ccleoa.org
SUMMARY:Terry Deeb-TWAW-Classroom & Pistol Range
DESCRIPTION:
URL:https://ccleoa.org/event/terry-deeb-twaw-classroom-pistol-range/
CATEGORIES:Members Open,Repeating Events
END:VEVENT
BEGIN:VEVENT
DTSTART;TZID=America/New_York:20210711T075900
DTEND;TZID=America/New_York:20210711T170000
DTSTAMP:20260420T191149
CREATED:20210727T184446Z
LAST-MODIFIED:20210817T190342Z
UID:10000174-1625990340-1626022800@ccleoa.org
SUMMARY:Sunday Range Hours 1300-1800
DESCRIPTION:
URL:https://ccleoa.org/event/sunday-range-hours-1300-1800-2/
CATEGORIES:Repeating Events,Sunday Range Hours
END:VEVENT
BEGIN:VEVENT
DTSTART;TZID=America/New_York:20210712T090000
DTEND;TZID=America/New_York:20210712T120000
DTSTAMP:20260420T191149
CREATED:20210727T184534Z
LAST-MODIFIED:20210817T192116Z
UID:10000169-1626080400-1626091200@ccleoa.org
SUMMARY:Wobble Trap Shoot-Rifle Range CLOSED
DESCRIPTION:
URL:https://ccleoa.org/event/wobble-trap-shoot-rifle-range-closed-2/
CATEGORIES:Repeating Events,Wobble Trap- Rifle Range Closed
END:VEVENT
BEGIN:VEVENT
DTSTART;TZID=America/New_York:20210712T090000
DTEND;TZID=America/New_York:20210712T120000
DTSTAMP:20260420T191149
CREATED:20210728T170307Z
LAST-MODIFIED:20250319T184713Z
UID:10000186-1626080400-1626091200@ccleoa.org
SUMMARY:Wobble Trap Shoot Range E   -   Ranges C & D CLOSED
DESCRIPTION:
URL:https://ccleoa.org/event/wobble-trap-shoot-rifle-range-closed-5/2021-07-12/
CATEGORIES:Repeating Events,Wobble Trap- Rifle Range Closed
END:VEVENT
BEGIN:VEVENT
DTSTART;TZID=America/New_York:20210714T090000
DTEND;TZID=America/New_York:20210714T120000
DTSTAMP:20260420T191149
CREATED:20210728T172312Z
LAST-MODIFIED:20250319T185901Z
UID:10000693-1626253200-1626264000@ccleoa.org
SUMMARY:RN TRAP Range E  Ranges C & D CLOSED during Trap hours
DESCRIPTION:
URL:https://ccleoa.org/event/trap-rifle-range-closed-during-trap-hours-5/2021-07-14/
CATEGORIES:Repeating Events,Trap-Rifle Range Closed
END:VEVENT
BEGIN:VEVENT
DTSTART;TZID=America/New_York:20210718T075900
DTEND;TZID=America/New_York:20210718T170000
DTSTAMP:20260420T191149
CREATED:20210727T203446Z
LAST-MODIFIED:20250319T185126Z
UID:10000012-1626595140-1626627600@ccleoa.org
SUMMARY:Sunday Range Hours 1300-1800
DESCRIPTION:
URL:https://ccleoa.org/event/sunday-range-hours-1300-1800-3/2021-07-18/
CATEGORIES:Repeating Events,Sunday Range Hours
END:VEVENT
BEGIN:VEVENT
DTSTART;TZID=America/New_York:20210719T090000
DTEND;TZID=America/New_York:20210719T120000
DTSTAMP:20260420T191149
CREATED:20210727T203524Z
LAST-MODIFIED:20210817T192116Z
UID:10000010-1626685200-1626696000@ccleoa.org
SUMMARY:Wobble Trap Shoot-Rifle Range CLOSED
DESCRIPTION:
URL:https://ccleoa.org/event/wobble-trap-shoot-rifle-range-closed-3/
CATEGORIES:Repeating Events,Wobble Trap- Rifle Range Closed
END:VEVENT
BEGIN:VEVENT
DTSTART;TZID=America/New_York:20210719T090000
DTEND;TZID=America/New_York:20210719T120000
DTSTAMP:20260420T191149
CREATED:20210728T170307Z
LAST-MODIFIED:20250319T184713Z
UID:10000187-1626685200-1626696000@ccleoa.org
SUMMARY:Wobble Trap Shoot Range E   -   Ranges C & D CLOSED
DESCRIPTION:
URL:https://ccleoa.org/event/wobble-trap-shoot-rifle-range-closed-5/2021-07-19/
CATEGORIES:Repeating Events,Wobble Trap- Rifle Range Closed
END:VEVENT
BEGIN:VEVENT
DTSTART;TZID=America/New_York:20210721T090000
DTEND;TZID=America/New_York:20210721T120000
DTSTAMP:20260420T191149
CREATED:20210728T172312Z
LAST-MODIFIED:20250319T185901Z
UID:10000694-1626858000-1626868800@ccleoa.org
SUMMARY:RN TRAP Range E  Ranges C & D CLOSED during Trap hours
DESCRIPTION:
URL:https://ccleoa.org/event/trap-rifle-range-closed-during-trap-hours-5/2021-07-21/
CATEGORIES:Repeating Events,Trap-Rifle Range Closed
END:VEVENT
BEGIN:VEVENT
DTSTART;TZID=America/New_York:20210722T080000
DTEND;TZID=America/New_York:20210727T220000
DTSTAMP:20260420T191149
CREATED:20210727T204825Z
LAST-MODIFIED:20210817T182735Z
UID:10000178-1626940800-1627423200@ccleoa.org
SUMMARY:CCSO-SRT-Range CLOSED
DESCRIPTION:
URL:https://ccleoa.org/event/ccso-srt-range-closed-2/
CATEGORIES:Range Closures,Repeating Events
END:VEVENT
BEGIN:VEVENT
DTSTART;TZID=America/New_York:20210725T075900
DTEND;TZID=America/New_York:20210725T170000
DTSTAMP:20260420T191149
CREATED:20210727T203446Z
LAST-MODIFIED:20250319T185126Z
UID:10000013-1627199940-1627232400@ccleoa.org
SUMMARY:Sunday Range Hours 1300-1800
DESCRIPTION:
URL:https://ccleoa.org/event/sunday-range-hours-1300-1800-3/2021-07-25/
CATEGORIES:Repeating Events,Sunday Range Hours
END:VEVENT
BEGIN:VEVENT
DTSTART;TZID=America/New_York:20210725T075900
DTEND;TZID=America/New_York:20210725T170000
DTSTAMP:20260420T191149
CREATED:20210728T115732Z
LAST-MODIFIED:20210817T190340Z
UID:10000180-1627199940-1627232400@ccleoa.org
SUMMARY:Sunday Range Hours 1300-1800
DESCRIPTION:
URL:https://ccleoa.org/event/sunday-range-hours-1300-1800-4/
CATEGORIES:Repeating Events,Sunday Range Hours
END:VEVENT
BEGIN:VEVENT
DTSTART;TZID=America/New_York:20210726T090000
DTEND;TZID=America/New_York:20210726T120000
DTSTAMP:20260420T191149
CREATED:20210728T120239Z
LAST-MODIFIED:20210817T192116Z
UID:10000181-1627290000-1627300800@ccleoa.org
SUMMARY:Wobble Trap Shoot-Rifle Range CLOSED
DESCRIPTION:
URL:https://ccleoa.org/event/wobble-trap-shoot-rifle-range-closed-4/
CATEGORIES:Repeating Events,Wobble Trap- Rifle Range Closed
END:VEVENT
BEGIN:VEVENT
DTSTART;TZID=America/New_York:20210726T090000
DTEND;TZID=America/New_York:20210726T120000
DTSTAMP:20260420T191149
CREATED:20210728T170307Z
LAST-MODIFIED:20250319T184713Z
UID:10000188-1627290000-1627300800@ccleoa.org
SUMMARY:Wobble Trap Shoot Range E   -   Ranges C & D CLOSED
DESCRIPTION:
URL:https://ccleoa.org/event/wobble-trap-shoot-rifle-range-closed-5/2021-07-26/
CATEGORIES:Repeating Events,Wobble Trap- Rifle Range Closed
END:VEVENT
BEGIN:VEVENT
DTSTART;TZID=America/New_York:20210728T090000
DTEND;TZID=America/New_York:20210728T120000
DTSTAMP:20260420T191149
CREATED:20210728T172312Z
LAST-MODIFIED:20250319T185901Z
UID:10000695-1627462800-1627473600@ccleoa.org
SUMMARY:RN TRAP Range E  Ranges C & D CLOSED during Trap hours
DESCRIPTION:
URL:https://ccleoa.org/event/trap-rifle-range-closed-during-trap-hours-5/2021-07-28/
CATEGORIES:Repeating Events,Trap-Rifle Range Closed
END:VEVENT
END:VCALENDAR